BEGIN:VCALENDAR
VERSION:2.0
PRODID:-//ChamberMaster//Event Calendar 2.0//EN
METHOD:PUBLISH
X-PUBLISHED-TTL:P3D
REFRESH-INTERVAL:P3D
CALSCALE:GREGORIAN
BEGIN:VEVENT
DTSTART:20120112T170000Z
DTEND:20120112T190000Z
X-MICROSOFT-CDO-ALLDAYEVENT:FALSE
SUMMARY:Greater Shelby Chamber Grow & Go ~ "Get Organized for 2012"
DESCRIPTION:Greater Shelby Chamber Grow & Go ~ "Get Organized in 2012"\n\n	\n\n	Got New Years resolutions to keep? Come to the Greater Shelby Chamber's Grow & Go and let Kim McBrayer\, Certified Professional Organizer\, help you get organized! Clutter and chaos do not have to control your life anymore. Kim is a Certified Professional Organizer\, specializing in simplifying lives\, one space at a time.\n\n	\n\n	This Grow & Go workshop will be held on Thursday\, January 12th\, from 11am to 1pm at the Greater Shelby County Chamber of Commerce. Lunch and materials are included in the $10 cost. Register today! You will greatly benefit from this workshop at work and at home!\n\n	\n\n	Sponsored in 2012 by Business Telephones Inc. Grow & Go workshops are designed to keep you informed of current market trends and provide professional development techniques to keep your career and business moving forward. Grow & Go workshops are great opportunities for you to network with other professionals and get a refresher course on the essential skills of leadership needed in today's business environment.
X-ALT-DESC;FMTTYPE=text/html:<div>\n	<strong>Greater Shelby Chamber Grow &amp\; Go ~ &quot\;Get Organized in 2012&quot\;</strong><br />\n	<br />\n	<em><strong>Got New Years resolutions to keep?</strong></em> Come to the Greater Shelby Chamber&#39\;s Grow &amp\; Go and let Kim McBrayer\, Certified Professional Organizer\, help you get organized! Clutter and chaos do not have to control your life anymore. Kim is a Certified Professional Organizer\, specializing in simplifying lives\, one space at a time.<br />\n	<br />\n	This Grow &amp\; Go workshop will be held on Thursday\, January 12th\, from 11am to 1pm at the Greater Shelby County Chamber of Commerce. Lunch and materials are included in the $10 cost. Register today! You will greatly benefit from this workshop at work and at home!</div>\n<div>\n	<br />\n	<span style="font-family: arial\;"><span style="font-size: 11px\;"><em>Sponsored in 2012 by <a href="http://www.bticonnect.com/">Business Telephones Inc.</a> Grow &amp\; Go workshops are designed to keep you informed of current market trends and provide professional development techniques to keep your career and business moving forward. Grow &amp\; Go workshops are great opportunities for you to network with other professionals and get a refresher course on the essential skills of leadership needed in today&rsquo\;s business environment.</em></span></span></div>\n
LOCATION:Greater Shelby County Chamber of Commerce 1301 County Services Drive\, Pelham (205) 663-4542
UID:e.145.3636
SEQUENCE:3
DTSTAMP:20260425T135316Z
URL:https://business.shelbychamber.org/events/details/greater-shelby-chamber-grow-go-get-organized-for-2012-01-12-2012-3636
END:VEVENT

END:VCALENDAR
