BEGIN:VCALENDAR
VERSION:2.0
PRODID:-//ChamberMaster//Event Calendar 2.0//EN
METHOD:PUBLISH
X-PUBLISHED-TTL:P3D
REFRESH-INTERVAL:P3D
CALSCALE:GREGORIAN
BEGIN:VEVENT
DTSTART:20120308T170000Z
DTEND:20120308T190000Z
X-MICROSOFT-CDO-ALLDAYEVENT:FALSE
SUMMARY:Greater Shelby Chamber Grow & Go ~ How to Motivate Employees
DESCRIPTION:Grow & Go Workshop ~ How to Motivate Your Employees and Increase Productivity\n\n\n\nWe constantly hear that a major challenge in business is employees.  Employees can be a challenge but we need loyal and productive employees to remain in business.  Business owners\, Managers\, and Supervisors should attend to this Grow & Go workshop presented by Senitra C. Blackburn\, CPC\, with Cook-Blackburn Human Resources to learn how to motivate your employees from the beginning and increase productivity.\n\n\n\nKey points covered in the workshop are:\n\n\n\nHow to select the right employees.\n\nHow to effectively train employees.\n\nHow to motivate employees and increase productivity.\n\nHow to handle team conflict.\n\n\n\nThe Grow & Go workshops are made possible by the 2012 Continual Sponsorship of Business Telephones\, Inc.  The programs and events we offer wouldn't be possible without the support of our sponsors!\n\n\n\nWhen: Thursday\, March 8\, 2012\n\nTime:   11 am until 1 pm\n\nWhere: Greater Shelby County Chamber of Commerce\, 1301 County Services Drive\, Pelham\n\nInvestment:  $10 per person.  Includes lunch and materials.\n\nRegistration: Register and prepay by credit card online (Discover\, M/C\, or Visa) by clicking the Register Online button above.\n\nYou must register by March 6th to be guaranteed a seat and lunch.\n\n	\n\n	Sponsored in 2012 by Business Telephones Inc. Grow & Go workshops are designed to keep you informed of current market trends and provide professional development techniques to keep your career and business moving forward. Grow & Go workshops are great opportunities for you to network with other professionals and get a refresher course on the essential skills of leadership needed in today's business environment.
X-ALT-DESC;FMTTYPE=text/html:<strong>Grow &amp\; Go Workshop ~ How to Motivate Your Employees and Increase Productivity</strong><br />\n<br />\nWe constantly hear that a major challenge in business is employees.&nbsp\; Employees can be a challenge but we need loyal and productive employees to remain in business.&nbsp\; Business owners\, Managers\, and Supervisors should attend to this Grow &amp\; Go workshop presented by Senitra C. Blackburn\, CPC\, with Cook-Blackburn Human Resources to learn how to motivate your employees from the beginning and increase productivity.<br />\n<br />\nKey points covered in the workshop are:<br />\n<br />\nHow to select the right employees.<br />\nHow to effectively train employees.<br />\nHow to motivate employees and increase productivity.<br />\nHow to handle team conflict.<br />\n<br />\nThe <a href="http://www.shelbychamber.org/default.asp?ID=38">Grow &amp\; Go workshops</a> are made possible by the 2012 Continual Sponsorship of <a href="http://www.bticonnect.com/">Business Telephones\, Inc.</a>&nbsp\; The programs and events we offer wouldn&#39\;t be possible without the support of our sponsors!<br />\n<br />\n<strong>When</strong>: Thursday\, March 8\, 2012<br />\n<strong>Time</strong>:&nbsp\;&nbsp\; 11 am until 1 pm<br />\n<strong>Where</strong>: Greater Shelby County Chamber of Commerce\, 1301 County Services Drive\, Pelham<br />\n<strong>Investment</strong>:&nbsp\; $10 per person.&nbsp\; Includes lunch and materials.<br />\n<strong>Registration</strong>: Register and prepay by credit card online (Discover\, M/C\, or Visa) by clicking the Register Online button above.<br />\n<em><strong>You must register by March 6th to be guaranteed a seat and lunch.</strong></em>\n<div>\n	<br />\n	<span style="font-family: arial\;"><span style="font-size: 11px\;"><em>Sponsored in 2012 by <a href="http://www.bticonnect.com/">Business Telephones Inc.</a> Grow &amp\; Go workshops are designed to keep you informed of current market trends and provide professional development techniques to keep your career and business moving forward. Grow &amp\; Go workshops are great opportunities for you to network with other professionals and get a refresher course on the essential skills of leadership needed in today&rsquo\;s business environment.</em></span></span></div>\n
LOCATION:Greater Shelby County Chamber of Commerce 1301 County Services Drive\, Pelham (205) 663-4542
UID:e.145.3929
SEQUENCE:3
DTSTAMP:20260425T103003Z
URL:https://business.shelbychamber.org/events/details/greater-shelby-chamber-grow-go-how-to-motivate-employees-03-08-2012-3929
END:VEVENT

END:VCALENDAR
