BEGIN:VCALENDAR
VERSION:2.0
PRODID:-//ChamberMaster//Event Calendar 2.0//EN
METHOD:PUBLISH
X-PUBLISHED-TTL:P3D
REFRESH-INTERVAL:P3D
CALSCALE:GREGORIAN
BEGIN:VEVENT
DTSTART:20111013T160000Z
DTEND:20111013T180000Z
X-MICROSOFT-CDO-ALLDAYEVENT:FALSE
SUMMARY:Greater Shelby Chamber Grow & Go ~ "Organizational Communication"
DESCRIPTION:Greater Shelby Chamber Grow & Go ~ "Organizational Communication" presented by Oldenburg and Associates\, LLC\n\n	\n\n	During lean economic times\, businesses are constantly looking for ways to improve speed and productivity. Higher synergy among employees helps accomplish both.\n\n	\n\n	Organizational Communication will work with participants on communication styles that they may have on their staff teams and how to work with different styles. We will also take participants through a series of activities that help build better communication on their staff team. Better communication between team members leads to higher speed on work performed and lower costs.\n\n	\n\n	Sponsored in 2011 by Business Telephones Inc. and Cahaba Valley Computer Services\, LLC\, Grow & Go workshop are designed to keep you informed of current market trends and provide professional development techniques to keep your career and business moving forward. Grow & Go workshops are great opportunities for you to network with other professionals and get a refresher course on the essential skills of leadership needed in today's business environment.
X-ALT-DESC;FMTTYPE=text/html:<div>\n	<strong>Greater Shelby Chamber Grow &amp\; Go ~ &quot\;Organizational Communication&quot\;</strong> presented by <a href="http://www.oldenburgandassociates.com/">Oldenburg and Associates\, LLC</a><br />\n	<br />\n	During lean economic times\, businesses are constantly looking for ways to improve speed and productivity. Higher synergy among employees helps accomplish both.<br />\n	<br />\n	Organizational Communication will work with participants on communication styles that they may have on their staff teams and how to work with different styles. We will also take participants through a series of activities that help build better communication on their staff team. Better communication between team members leads to higher speed on work performed and lower costs.</div>\n<div>\n	<br />\n	<span style="font-family: arial\;"><span style="font-size: 11px\;"><em>Sponsored in 2011 by <a href="http://www.bticonnect.com/">Business Telephones Inc.</a> and <a href="http://www.cvcsllc.com/">Cahaba Valley Computer Services\, LLC</a>\, Grow &amp\; Go workshop are designed to keep you informed of current market trends and provide professional development techniques to keep your career and business moving forward. Grow &amp\; Go workshops are great opportunities for you to network with other professionals and get a refresher course on the essential skills of leadership needed in today&rsquo\;s business environment.</em></span></span></div>\n
LOCATION:Greater Shelby County Chamber of Commerce 1301 County Services Drive\, Pelham (205) 663-4542
UID:e.145.3472
SEQUENCE:3
DTSTAMP:20260425T183605Z
URL:https://business.shelbychamber.org/events/details/greater-shelby-chamber-grow-go-organizational-communication-10-13-2011-3472
END:VEVENT

END:VCALENDAR
