BEGIN:VCALENDAR
VERSION:2.0
PRODID:-//ChamberMaster//Event Calendar 2.0//EN
METHOD:PUBLISH
X-PUBLISHED-TTL:P3D
REFRESH-INTERVAL:P3D
CALSCALE:GREGORIAN
BEGIN:VEVENT
DTSTART:20121108T170000Z
DTEND:20121108T190000Z
X-MICROSOFT-CDO-ALLDAYEVENT:FALSE
SUMMARY:Greater Shelby Chamber Grow & Go ~ Overcoming Your Fears and Speak Successfully
DESCRIPTION:Join us for the November Grow & Go workshop as John Moser\, First Response will present "Overcoming Your Fears and Speak Successfully in Public."  Many people have increased their worth\, and change the path of the careers and future simply by having the ability to stand in front of a team\, customer or group of people present information in a informative\, clear or compelling manner.\n\n\n\n Program overview\n\n\n\n  Learn how to motivate and inspire an audience to action\n\n\n\n  Learn how to open and close presentations more effectively\n\n\n\n  Learn how to plan  & organize your presentations\n\n\n\n  Learn how to run  question & answer sessions\n\n\n\n  Learn how to develop an emotional connection with your audience\n\n\n\n  Learn how to present complex information\n\n\n	\n\n	Sponsored in 2012 by Business Telephones Inc. Grow & Go workshops are designed to keep you informed of current market trends and provide professional development techniques to keep your career and business moving forward. Grow & Go workshops are great opportunities for you to network with other professionals and get a refresher course on the essential skills of leadership needed in today's business environment.
X-ALT-DESC;FMTTYPE=text/html:<span style="font-size:12px\;"><span style="font-family: arial\;">Join us for the November Grow &amp\; Go workshop as John Moser\, First Response will present &ldquo\;</span></span>Overcoming Your Fears and Speak Successfully in Public<span style="font-size:12px\;"><span style="font-family: arial\;">.&rdquo\;</span></span>&nbsp\; Many people have increased their worth\, and change the path of the careers and future simply by having the ability to stand in front of a team\, customer or group of people present information in a informative\, clear or compelling manner.<br />\n<br />\n<span style="font-size:12px\;"><span style="font-family: arial\;"> </span></span>Program overview<br />\n<br />\n<strong>&middot\; </strong>Learn how to motivate and inspire an audience to action<br />\n<br />\n<strong>&middot\; </strong>Learn how to open and close presentations more effectively<br />\n<br />\n<strong>&middot\; </strong>Learn how to plan&nbsp\; &amp\; organize your presentations<br />\n<br />\n<strong>&middot\; </strong>Learn how to run&nbsp\; question &amp\; answer sessions<br />\n<br />\n<strong>&middot\; </strong>Learn how to develop an emotional connection with your audience<br />\n<br />\n<strong>&middot\; </strong>Learn how to present complex information<br />\n<div>\n	<br />\n	<span style="font-size:12px\;"><span style="font-family: arial\;">Sponsored in 2012 by <a href="http://www.bticonnect.com/">Business Telephones Inc.</a> Grow &amp\; Go workshops are designed to keep you informed of current market trends and provide professional development techniques to keep your career and business moving forward. Grow &amp\; Go workshops are great opportunities for you to network with other professionals and get a refresher course on the essential skills of leadership needed in today&rsquo\;s business environment.</span></span></div>\n
LOCATION:Greater Shelby County Chamber of Commerce 1301 County Services Drive\, Pelham (205) 663-4542
UID:e.145.4428
SEQUENCE:3
DTSTAMP:20260424T220952Z
URL:https://business.shelbychamber.org/events/details/greater-shelby-chamber-grow-go-overcoming-your-fears-and-speak-successfully-11-08-2012-4428
END:VEVENT

END:VCALENDAR
