BEGIN:VCALENDAR
VERSION:2.0
PRODID:-//ChamberMaster//Event Calendar 2.0//EN
METHOD:PUBLISH
X-PUBLISHED-TTL:P3D
REFRESH-INTERVAL:P3D
CALSCALE:GREGORIAN
BEGIN:VEVENT
DTSTART:20121018T160000Z
DTEND:20121018T180000Z
X-MICROSOFT-CDO-ALLDAYEVENT:FALSE
SUMMARY:Greater Shelby Chamber Grow & Go ~ Power & Importance of Diversity in Workplace
DESCRIPTION:Join us for the October Grow & Go workshop as John Moser\, First Response will present "The Power and Importance of Diversity in the Work place." Every day millions of people go to work\, school or just play and interact in a world full of multicultural diversity\, generational diversity and diverse personal values\, it's critical that we understand the value and importance of learning to interact and respect others.\n\n\n\n  Learn what diversity is\n\n  Learn how diversity impact your profits\, people & business\n\n  Learn how to create a strong foundation of understanding\n\n  Learn how to strengthen cultural differences\n\n  Learn how to create and show respect\n\n  Learn the impact of words\, actions and conflict\n\n  Learn the importance of interpersonal skills in building a diverse culture\n\n	\n\n	Sponsored in 2012 by Business Telephones Inc. Grow & Go workshops are designed to keep you informed of current market trends and provide professional development techniques to keep your career and business moving forward. Grow & Go workshops are great opportunities for you to network with other professionals and get a refresher course on the essential skills of leadership needed in today's business environment.
X-ALT-DESC;FMTTYPE=text/html:<span style="font-size:12px\;"><span style="font-family: arial\;">Join us for the October Grow &amp\; Go workshop as John Moser\, First Response will present &ldquo\;The Power and Importance of Diversity in the Work place.&rdquo\; Every day millions of people go to work\, school or just play and interact in a world full of multicultural diversity\, generational diversity and diverse personal values\, it&rsquo\;s critical that we understand the value and importance of learning to interact and respect others.<br />\n<br />\n&bull\; Learn what diversity is<br />\n&bull\; Learn how diversity impact your profits\, people &amp\; business<br />\n&bull\; Learn how to create a strong foundation of understanding<br />\n&bull\; Learn how to strengthen cultural differences<br />\n&bull\; Learn how to create and show respect<br />\n&bull\; Learn the impact of words\, actions and conflict<br />\n&bull\; Learn the importance of interpersonal skills in building a diverse culture</span></span>\n<div>\n	<br />\n	<span style="font-size:12px\;"><span style="font-family: arial\;">Sponsored in 2012 by <a href="http://www.bticonnect.com/">Business Telephones Inc.</a> Grow &amp\; Go workshops are designed to keep you informed of current market trends and provide professional development techniques to keep your career and business moving forward. Grow &amp\; Go workshops are great opportunities for you to network with other professionals and get a refresher course on the essential skills of leadership needed in today&rsquo\;s business environment.</span></span></div>\n
LOCATION:Greater Shelby County Chamber of Commerce 1301 County Services Drive\, Pelham (205) 663-4542
UID:e.145.4401
SEQUENCE:3
DTSTAMP:20260424T233626Z
URL:https://business.shelbychamber.org/events/details/greater-shelby-chamber-grow-go-power-importance-of-diversity-in-workplace-10-18-2012-4401
END:VEVENT

END:VCALENDAR
