BEGIN:VCALENDAR
VERSION:2.0
PRODID:-//ChamberMaster//Event Calendar 2.0//EN
METHOD:PUBLISH
X-PUBLISHED-TTL:P3D
REFRESH-INTERVAL:P3D
CALSCALE:GREGORIAN
BEGIN:VEVENT
DTSTART:20120809T160000Z
DTEND:20120809T180000Z
X-MICROSOFT-CDO-ALLDAYEVENT:FALSE
SUMMARY:Greater Shelby Chamber Grow & Go ~ Seven Levels of Communication
DESCRIPTION:Grow & Go Workshop ~ The Seven Levels of Communication\n\n	 \n\n	Register for the August Grow & Go workshop to learn additional information about The Seven Levels of Communication\, presented by Presented by Russ Morgan\, CFP. This workshop will provide details on how to grow your business without advertising or promotion. The main ingredient of this concept is generosity. Generosity is love in action. Generosity is the habit of giving freely without expecting anything in return. It can involve offering thoughts\, talk\, talent\, treasure or time to aid someone in need. Often equated with charity as a virtue\, generosity is widely accepted in society as a desirable trait and a current trend in business is that those who give are receiving more readily and more quickly than ever before.\n\n	\n\n	The Grow & Go Workshops are made possible by the 2012 Continual Sponsorship of Business Telephones\, Inc.  The programs and events we offer wouldn't be possible without the support of our sponsors!\n\n	\n\n	When: Thursday\, July 12\, 2012\n\n	Time:   11 am until 1 pm\n\n	Where: Greater Shelby County Chamber of Commerce\, 1301 County Services Drive\, Pelham\n\n	Investment:  $10 per person.  Includes lunch and materials.\n\n	Registration: Register and prepay by credit card online (Discover\, M/C\, or Visa) by clicking the link on the seminar you wish to attend on our Chamber Event Calendar.\n\n	Registration required by July 10th to be guaranteed a seat and lunch.\n\n	\n\n	Sponsored in 2012 by Business Telephones Inc. Grow & Go workshops are designed to keep you informed of current market trends and provide professional development techniques to keep your career and business moving forward. Grow & Go workshops are great opportunities for you to network with other professionals and get a refresher course on the essential skills of leadership needed in today's business environment.
X-ALT-DESC;FMTTYPE=text/html:<div>\n	<strong>Grow &amp\; Go Workshop ~ The Seven Levels of Communication</strong><br />\n	&nbsp\;<br />\n	Register for the August Grow &amp\; Go workshop to learn additional information about <strong>The Seven Levels of Communication</strong>\, presented by <em>Presented by Russ Morgan\, CFP</em>. This workshop will provide details on how to grow your business without advertising or promotion. The main ingredient of this concept is generosity. Generosity is love in action. Generosity is the habit of giving freely without expecting anything in return. It can involve offering thoughts\, talk\, talent\, treasure or time to aid someone in need. Often equated with charity as a virtue\, generosity is widely accepted in society as a desirable trait and a current trend in business is that those who give are receiving more readily and more quickly than ever before.<br />\n	<br />\n	The Grow &amp\; Go Workshops are made possible by the 2012 Continual Sponsorship of Business Telephones\, Inc.&nbsp\; The programs and events we offer wouldn&#39\;t be possible without the support of our sponsors!<br />\n	<br />\n	When: Thursday\, July 12\, 2012<br />\n	Time:&nbsp\;&nbsp\; 11 am until 1 pm<br />\n	Where: Greater Shelby County Chamber of Commerce\, 1301 County Services Drive\, Pelham<br />\n	Investment:&nbsp\; $10 per person.&nbsp\; Includes lunch and materials.<br />\n	Registration: Register and prepay by credit card online (Discover\, M/C\, or Visa) by clicking the link on the seminar you wish to attend on our Chamber Event Calendar.<br />\n	Registration required by July 10th to be guaranteed a seat and lunch.<br />\n	<br />\n	<span style="font-family: arial"><span style="font-size: 11px">Sponsored in 2012 by <a href="http://www.bticonnect.com/">Business Telephones Inc.</a> Grow &amp\; Go workshops are designed to keep you informed of current market trends and provide professional development techniques to keep your career and business moving forward. Grow &amp\; Go workshops are great opportunities for you to network with other professionals and get a refresher course on the essential skills of leadership needed in today&rsquo\;s business environment.</span></span></div>\n
LOCATION:Greater Shelby County Chamber of Commerce 1301 County Services Drive\, Pelham (205) 663-4542
UID:e.145.4275
SEQUENCE:3
DTSTAMP:20260425T025032Z
URL:https://business.shelbychamber.org/events/details/greater-shelby-chamber-grow-go-seven-levels-of-communication-08-09-2012-4275
END:VEVENT

END:VCALENDAR
