BEGIN:VCALENDAR
VERSION:2.0
PRODID:-//ChamberMaster//Event Calendar 2.0//EN
METHOD:PUBLISH
X-PUBLISHED-TTL:P3D
REFRESH-INTERVAL:P3D
CALSCALE:GREGORIAN
BEGIN:VEVENT
DTSTART:20150109T143000Z
DTEND:20150109T153000Z
X-MICROSOFT-CDO-ALLDAYEVENT:FALSE
SUMMARY:Greater Shelby Chamber - Health Services Work Group
DESCRIPTION:Greater Shelby County Chamber of Commerce Health Services Work Group\n\n\n\nPromote the importance of good health\, wellness and education for Shelby County businesses. Meets 2nd Friday of each month @ 8:30AM @ the Chamber office. If you are interested in serving on the Health Services Work Group please contact Keyla Handley\, Community and Workforce Development Manager\, 663-4542\, ext. 106.
X-ALT-DESC;FMTTYPE=text/html:<strong>Greater Shelby County Chamber of Commerce Health Services Work Group</strong><br />\n<br />\nPromote the importance of good health\, wellness and education for Shelby County businesses. Meets 2nd Friday of each month @ 8:30AM @ the Chamber office. If you are interested in serving on the Health Services Work Group please contact <a href="mailto:keyla@shelbychamber.org?subject=Please%20Contact%20Me%3A%20Interested%20in%20Serving%20on%20the%20Greater%20Shelby%20Chamber's%20Health%20Services%20Work%20Group">Keyla Handley</a>\, Community and Workforce Development Manager\, 663-4542\, ext. 106.
LOCATION:Greater Shelby County Chamber of Commerce 1301 County Services Drive Pelham\, AL 35124
UID:e.145.6097
SEQUENCE:3
DTSTAMP:20260423T063201Z
URL:https://business.shelbychamber.org/events/details/greater-shelby-chamber-health-services-work-group-01-09-2015-6097
END:VEVENT

END:VCALENDAR
