BEGIN:VCALENDAR
VERSION:2.0
PRODID:-//ChamberMaster//Event Calendar 2.0//EN
METHOD:PUBLISH
X-PUBLISHED-TTL:P3D
REFRESH-INTERVAL:P3D
CALSCALE:GREGORIAN
BEGIN:VEVENT
DTSTART;VALUE=DATE:20170106
DTEND;VALUE=DATE:20170107
TRANSP:TRANSPARENT
X-MICROSOFT-CDO-ALLDAYEVENT:TRUE
SUMMARY:Greater Shelby Chamber - Health Services Work Group
DESCRIPTION:Greater Shelby Chamber - Health Services Work Group\n\n\n\nPromote the importance of good health\, wellness and education for Shelby County businesses. Coordinate the "Health Focus of the Month" in the Chamber newsletter\, seminars on health-related topics and a "Healthy Lifestyles Expo".\n\n\n\nMeets 2nd Friday of each month @ 8:30AM @ the Chamber.*\n\n\n\nIf you are interested in serving on the Health Services Work Group please contact Keyla Handley at 663-4542\, ext. 106.
X-ALT-DESC;FMTTYPE=text/html:<strong>Greater Shelby Chamber - Health Services Work Group</strong><br />\n<br />\nPromote the importance of good health\, wellness and education for Shelby County businesses. Coordinate the &ldquo\;Health Focus of the Month&rdquo\; in the Chamber newsletter\, seminars on health-related topics and a &ldquo\;Healthy Lifestyles Expo&rdquo\;.<br />\n<br />\nMeets 2nd Friday of each month @ 8:30AM @ the Chamber.*<br />\n<br />\nIf you are interested in serving on the Health Services Work Group please contact Keyla Handley at 663-4542\, ext. 106.
LOCATION:Meets 2nd Friday of each month @ 8:30AM @ the Chamber* *Unless otherwise noted by Chamber Work Group.
UID:e.145.10016
SEQUENCE:3
DTSTAMP:20260421T120248Z
URL:https://business.shelbychamber.org/events/details/greater-shelby-chamber-health-services-work-group-10016
END:VEVENT

END:VCALENDAR
