BEGIN:VCALENDAR
VERSION:2.0
PRODID:-//ChamberMaster//Event Calendar 2.0//EN
METHOD:PUBLISH
X-PUBLISHED-TTL:P3D
REFRESH-INTERVAL:P3D
CALSCALE:GREGORIAN
BEGIN:VEVENT
DTSTART:20140515T123000Z
DTEND:20140515T140000Z
X-MICROSOFT-CDO-ALLDAYEVENT:FALSE
SUMMARY:Greater Shelby Chamber - Healthcare Reform Update Workshop
DESCRIPTION:Healthcare Reform Update Workshop\n\n\n\nWith changes coming monthly\, small businesses need to make sure they are "up-to-speed" on the latest developments regarding the Affordable Care Act.\n\n\n\nThis workshop\, scheduled for May 15 from 7:30AM until 9:00AM at St. Vincent's One Nineteen\, 7191 Cahaba Valley Road\, Birmingham\, will feature a panel consisting of Brian Massey\, St. Vincent's Health Systems\; Andy Andrews\, Sirote & Permutt\, PC\; David Platt\, Blue Cross Blue Shield of Alabama and Marc Ruggerio\, Fisher Investments as the moderator.\n\n\n\nIn addition to the update\, this will be an excellent opportunity for small business owners to ask specific questions regarding the Healthcare Reform/ Affordable Care Act.\n\n\n\nThe fee for participants is $5 for members and $15 for future members and includes a continental breakfast. The doors will open at 7:30AM with the program beginning at 8:00AM.\n\n\n\nReservations are required and can be made online at www.shelbychamber.org\, email Keyla@shelbychamber.org\, call the Chamber RSVP line at 663-8747 or call the Chamber office at 663-4542.
X-ALT-DESC;FMTTYPE=text/html:<strong>Healthcare Reform Update Workshop</strong><br />\n<br />\nWith changes coming monthly\, small businesses need to make sure they are &ldquo\;up-to-speed&rdquo\; on the latest developments regarding the Affordable Care Act.<br />\n<br />\nThis workshop\, scheduled for May 15 from 7:30AM until 9:00AM at St. Vincent&rsquo\;s One Nineteen\, 7191 Cahaba Valley Road\, Birmingham\, will feature a panel consisting of Brian Massey\, St. Vincent&rsquo\;s Health Systems\; Andy Andrews\, Sirote &amp\; Permutt\, PC\; David Platt\, Blue Cross Blue Shield of Alabama and Marc Ruggerio\, Fisher Investments as the moderator.<br />\n<br />\nIn addition to the update\, this will be an excellent opportunity for small business owners to ask specific questions regarding the Healthcare Reform/ Affordable Care Act.<br />\n<br />\nThe fee for participants is $5 for members and $15 for future members and includes a continental breakfast. The doors will open at 7:30AM with the program beginning at 8:00AM.<br />\n<br />\nReservations are required and can be made online at www.shelbychamber.org\, email Keyla@shelbychamber.org\, call the Chamber RSVP line at 663-8747 or call the Chamber office at 663-4542.
LOCATION:St. Vincent's One Nineteen Health & Wellness Center 7191 Cahaba Valley Road\, Birmingham\, AL 35242
UID:e.145.5120
SEQUENCE:3
DTSTAMP:20260423T165439Z
URL:https://business.shelbychamber.org/events/details/greater-shelby-chamber-healthcare-reform-update-workshop-05-15-2014-5120
END:VEVENT

END:VCALENDAR
