BEGIN:VCALENDAR
VERSION:2.0
PRODID:-//ChamberMaster//Event Calendar 2.0//EN
METHOD:PUBLISH
X-PUBLISHED-TTL:P3D
REFRESH-INTERVAL:P3D
CALSCALE:GREGORIAN
BEGIN:VEVENT
DTSTART:20130911T123000Z
DTEND:20130911T140000Z
X-MICROSOFT-CDO-ALLDAYEVENT:FALSE
SUMMARY:Greater Shelby Chamber ~ Healthcare Reform Workshop
DESCRIPTION:Greater Shelby Chamber ~ "Healthcare Reform" Workshop\n\n\n\nSeptember 11\, 2013\n\n7:30AM - 9:00AM\n\nSt. Vincent's One Nineteen Health & Wellness Center\n\n(7191 Cahaba Valley Road\, Hoover\, 35242)\n\n\n\nThis workshop will feature a panel consisting of Cooper Johnson with S.S. Nesbitt\, Philip Sprinkle with Balch & Bingham\, and Ross Mendheim with Barfield\, Murphy\, Shank & Smith. Each presenter will speak on an aspect of health care reform with a question and answer session at the end of the program.\n\n\n\nThe investment for participants is $5 for Chamber members and $15 for "Future" members and includes a continental breakfast. The doors will open at 7:30AM with the program beginning at 8:00AM.\n\n\n\nTo make reservations\, click the Register Online button above or call the Chamber at 663-4542.
X-ALT-DESC;FMTTYPE=text/html:<strong>Greater Shelby Chamber ~ &ldquo\;Healthcare Reform&rdquo\; Workshop</strong><br />\n<br />\nSeptember 11\, 2013<br />\n7:30AM - 9:00AM<br />\nSt. Vincent&rsquo\;s One Nineteen Health &amp\; Wellness Center<br />\n(7191 Cahaba Valley Road\, Hoover\, 35242)<br />\n<br />\nThis workshop will feature a panel consisting of Cooper Johnson with S.S. Nesbitt\, Philip Sprinkle with Balch &amp\; Bingham\, and Ross Mendheim with Barfield\, Murphy\, Shank &amp\; Smith. Each presenter will speak on an aspect of health care reform with a question and answer session at the end of the program.<br />\n<br />\nThe investment for participants is $5 for Chamber members and $15 for &ldquo\;Future&rdquo\; members and includes a continental breakfast. The doors will open at 7:30AM with the program beginning at 8:00AM.<br />\n<br />\nTo make reservations\, click the Register Online button above or call the Chamber at 663-4542.
LOCATION:St. Vincent's One Nineteen Health & Wellness Center 7191 Cahaba Valley Road\, Birmingham\, AL 35242
UID:e.145.4670
SEQUENCE:3
DTSTAMP:20260424T051608Z
URL:https://business.shelbychamber.org/events/details/greater-shelby-chamber-healthcare-reform-workshop-09-11-2013-4670
END:VEVENT

END:VCALENDAR
