BEGIN:VCALENDAR
VERSION:2.0
PRODID:-//ChamberMaster//Event Calendar 2.0//EN
METHOD:PUBLISH
X-PUBLISHED-TTL:P3D
REFRESH-INTERVAL:P3D
CALSCALE:GREGORIAN
BEGIN:VEVENT
DTSTART:20161215T233000Z
DTEND:20161216T010000Z
X-MICROSOFT-CDO-ALLDAYEVENT:FALSE
SUMMARY:Greater Shelby Chamber - Holiday Business After Hours at Holiday Inn Express Pelham
DESCRIPTION:Holiday Inn Express Pelham Hosts Holiday\n\nBusiness After Hours!\n \n\n\n\nMark your calendar for Thursday\, December 15 & join us at Holiday Inn Express Pelham\, 260 Cahaba Valley Road\, Pelham\, from 5:30PM until 7:00PM for Shelby County's best after hours networking event!\n\n\n\nThe Chamber's quarterly Business After Hours   presented in 2016 by Shelby County Newspapers -- are a great way to make new business contacts   & have fun while you're doing it! The cost to attend is affordable   only $10 for Chamber members ($20 for "Future" members)   & includes hot\, heavy hors d'oeuvres & two complimentary beverages (soft drinks\, beer or wine) of your choice.\n\n\n\nAdvance reservations are requested by December 13. Contact the Chamber by phone at 663-4542\, info@shelbychamber.org or register online.\n\n\n\nBusiness After Hours events are premier networking opportunities\, offering investors and guests the chance to meet business professionals representing products and services in a relaxed\, social setting. Investors attending have an opportunity to exchange business cards and become acquainted with other businesses throughout the community.  Bring plenty of business cards!
X-ALT-DESC;FMTTYPE=text/html:<div style="text-align: center\;"><br />\n<strong>Holiday Inn Express Pelham Hosts Holiday</strong></div>\n\n<div style="text-align: center\;"><strong>Business After Hours!</strong></div>\n&nbsp\;\n\n<div><br />\nMark your calendar for Thursday\, December 15 &amp\; join us at Holiday Inn Express Pelham\, 260 Cahaba Valley Road\, Pelham\, from 5:30PM until 7:00PM for Shelby County&rsquo\;s best after hours networking event!<br />\n<br />\nThe Chamber&rsquo\;s quarterly Business After Hours &ndash\; presented in 2016 by <a href="http://www.shelbycountyreporter.com/">Shelby County Newspapers</a> -- are a great way to make new business contacts &ndash\; &amp\; have fun while you&rsquo\;re doing it! The cost to attend is affordable &ndash\; only $10 for Chamber members ($20 for &ldquo\;Future&rdquo\; members) &ndash\; &amp\; includes hot\, heavy hors d&rsquo\;oeuvres &amp\; two complimentary beverages (soft drinks\, beer or wine) of your choice.<br />\n<br />\nAdvance reservations are requested by December 13. Contact the Chamber by phone at 663-4542\, info@shelbychamber.org or register online.<br />\n<br />\n<a href="http://shelbychamber.org/benefits/chamber-programs/business-after-hours/">Business After Hours</a> events are premier networking opportunities\, offering investors and guests the chance to meet business professionals representing products and services in a relaxed\, social setting. Investors attending have an opportunity to exchange business cards and become acquainted with other businesses throughout the community.&nbsp\; <em>Bring plenty of business cards!</em>\n\n<div>&nbsp\;</div>\n</div>\n
LOCATION:Holiday Inn Express Pelham 260 Cahaba Valley Road Pelham\, AL 35124 (205) 987-8888
UID:e.145.9797
SEQUENCE:3
DTSTAMP:20260421T132811Z
URL:https://business.shelbychamber.org/events/details/greater-shelby-chamber-holiday-business-after-hours-at-holiday-inn-express-pelham-9797
END:VEVENT

END:VCALENDAR
