BEGIN:VCALENDAR
VERSION:2.0
PRODID:-//ChamberMaster//Event Calendar 2.0//EN
METHOD:PUBLISH
X-PUBLISHED-TTL:P3D
REFRESH-INTERVAL:P3D
CALSCALE:GREGORIAN
BEGIN:VEVENT
DTSTART:20141216T233000Z
DTEND:20141217T010000Z
X-MICROSOFT-CDO-ALLDAYEVENT:FALSE
SUMMARY:Greater Shelby Chamber - Holiday Business After Hours Timberline
DESCRIPTION:Ring-In the Holiday Season with December 16 Business After Hours\n\n\n\nShelby County's premier business networking event has a "holiday" theme this month and Chamber members from the Calera\, Greater Shelby\, Montevallo and South Shelby chambers are invited to "celebrate the season" at the next Business After Hours event presented by Shelby County Newspapers.\n\n\n\nBring plenty of business cards and be ready to make some serious business contacts.  The cost   which includes hors d'oeuvres and two beverage coupons -- for any Chamber member is $10 per person and $20 for "Future" members.   \n\n\n\nReservations are required\, so please register via email at info@shelbychamber.org\, by phone at 663-4542 or online above by December 15.\n\n\n\nBusiness After Hours events are premier networking opportunities\, offering members and guests the chance to meet business professionals representing products and services in a relaxed\, social setting. Members attending have an opportunity to exchange business cards and become acquainted with other businesses throughout the community.  Bring plenty of business cards!
X-ALT-DESC;FMTTYPE=text/html:<strong>Ring-In the Holiday Season with December 16 Business After Hours</strong><br />\n<br />\nShelby County&rsquo\;s premier business networking event has a &ldquo\;holiday&rdquo\; theme this month and Chamber members from the Calera\, Greater Shelby\, Montevallo and South Shelby chambers are invited to &ldquo\;celebrate the season&rdquo\; at the next Business After Hours event presented by Shelby County Newspapers.<br />\n<br />\nBring plenty of business cards and be ready to make some serious business contacts.&nbsp\; The cost &ndash\; which includes hors d&rsquo\;oeuvres and two beverage coupons -- for any Chamber member is $10 per person and $20 for &ldquo\;Future&rdquo\; members.&nbsp\; &nbsp\;<br />\n<br />\nReservations are required\, so please register via email at info@shelbychamber.org\, by phone at 663-4542 or online above by December 15.<br />\n<br />\n<a href="http://www.shelbychamber.org/default.asp?ID=109">Business After Hours</a> events are premier networking opportunities\, offering members and guests the chance to meet business professionals representing products and services in a relaxed\, social setting. Members attending have an opportunity to exchange business cards and become acquainted with other businesses throughout the community.&nbsp\; <em>Bring plenty of business cards!</em>
LOCATION:Timberline Golf Club\, 300 Timberline Trail Calera\, AL 35040 (205) 668-7888
UID:e.145.6518
SEQUENCE:3
DTSTAMP:20260423T063420Z
URL:https://business.shelbychamber.org/events/details/greater-shelby-chamber-holiday-business-after-hours-timberline-12-16-2014-6518
END:VEVENT

END:VCALENDAR
