BEGIN:VCALENDAR
VERSION:2.0
PRODID:-//ChamberMaster//Event Calendar 2.0//EN
METHOD:PUBLISH
X-PUBLISHED-TTL:P3D
REFRESH-INTERVAL:P3D
CALSCALE:GREGORIAN
BEGIN:VEVENT
DTSTART:20160520T133000Z
DTEND:20160520T150000Z
X-MICROSOFT-CDO-ALLDAYEVENT:FALSE
SUMMARY:Greater Shelby Chamber - Human Resources Seminar
DESCRIPTION:Greater Shelby Chamber - Human Resources Seminar\n\nfacilitated by Joe Daniel of STREAMLINE CXO\n \n\nYou're Invited: Human Resources Seminar facilitated by Joe Daniel of STREAMLINE CXO. Join us for an interactive workshop hosted by the Chamber's Small Business Work Group.\n\n\n\nSponsored in 2016 by Brownstone Marketing Solutions\, Joe will discuss the following Topics:\n\n\n\n     Labor Laws: Which ones apply to me?\n\n     FLSA Rules: How they affect every business.\n\n     Benefit Plan Structure: What are my options?\n\n     HR Tips: How to minimize issues.\n\n\n\nMay 20\, 2016\n\n8:30AM-10:00AM\n\n\n\nGreater Shelby County Chamber\n\n1301 County Services Drive\, Pelham\n\n\n\nInvestment: There is no cost to attend the seminar\, but breakfast is available for Chamber investors at $10 per person and $20 per person for "Future" investors.\n\n\n\nSpace is limited. Reservations are requested by May 18.\n\n\n\nRegister online or for more information\, please contact Payton Thomas at payton@shelbychamber.org or by phone at 663-4542\, ext. 105.
X-ALT-DESC;FMTTYPE=text/html:<div style="text-align: center\;"><br />\n<strong>Greater Shelby Chamber - Human Resources Seminar<br />\nfacilitated by Joe Daniel of STREAMLINE CXO</strong></div>\n&nbsp\;\n\n<div>You&#39\;re Invited: Human Resources Seminar facilitated by Joe Daniel of STREAMLINE CXO. Join us for an interactive workshop hosted by the Chamber&rsquo\;s Small Business Work Group.<br />\n<br />\nSponsored in 2016 by <a href="http://www.bmsllc.biz/">Brownstone Marketing Solutions</a>\, Joe will discuss the following Topics:<br />\n<br />\n&bull\;&nbsp\;&nbsp\; &nbsp\;Labor Laws: Which ones apply to me?<br />\n&bull\;&nbsp\;&nbsp\; &nbsp\;FLSA Rules: How they affect every business.<br />\n&bull\;&nbsp\;&nbsp\; &nbsp\;Benefit Plan Structure: What are my options?<br />\n&bull\;&nbsp\;&nbsp\; &nbsp\;HR Tips: How to minimize issues.<br />\n<br />\nMay 20\, 2016<br />\n8:30AM-10:00AM<br />\n<br />\nGreater Shelby County Chamber<br />\n1301 County Services Drive\, Pelham<br />\n<br />\nInvestment: There is no cost to attend the seminar\, but breakfast is available for Chamber investors at $10 per person and $20 per person for &ldquo\;Future&rdquo\; investors.<br />\n<br />\nSpace is limited. Reservations are requested by May 18.<br />\n<br />\nRegister online or for more information\, please contact Payton Thomas at payton@shelbychamber.org or by phone at 663-4542\, ext. 105.</div>\n
LOCATION:Greater Shelby Shelby Office 1301 County Services Dr. Pelham\, AL 35124 663-4542
UID:e.145.9512
SEQUENCE:3
DTSTAMP:20260422T044345Z
URL:https://business.shelbychamber.org/events/details/greater-shelby-chamber-human-resources-seminar-05-20-2016-9512
END:VEVENT

END:VCALENDAR
