BEGIN:VCALENDAR
VERSION:2.0
PRODID:-//ChamberMaster//Event Calendar 2.0//EN
METHOD:PUBLISH
X-PUBLISHED-TTL:P3D
REFRESH-INTERVAL:P3D
CALSCALE:GREGORIAN
BEGIN:VEVENT
DTSTART:20161110T143000Z
DTEND:20161110T163000Z
X-MICROSOFT-CDO-ALLDAYEVENT:FALSE
SUMMARY:Greater Shelby Chamber - Inaugural "Small Business Summit"
DESCRIPTION:Greater Shelby Chamber Hosts Inaugural "Small Business Summit"\n\n\n\nAre you ready to make 2017 your best year in business yet? Then make plans to join us for the Inaugural "Small Business Summit" on November 10. This inaugural event\, hosted by the Chamber's Small Business Work Group\, will feature an open panel discussion designed to give small businesses helpful tips to make 2017 the most successful year possible. Our panel of experts will cover the following areas:  Accounting/Tax   Insurance   Retirement   Capital   Human Resources.\n\n\n\nThe Small Business Summit will be held at the Chamber office on November 10. Doors will open at 8:15AM with the panel discussion beginning at 8:30AM and conclude 10:30AM.There is no cost to attend however reservations are requested by noon on November 8 due to limited seating.\n\n\n\nFor more information\, or to make a reservation\, please contact Payton Thomas\, the Chamber's Director of Business Development & Support at payton@shelbychamber.org\, telephone at 663-4542\, ext. 105 or register online.
X-ALT-DESC;FMTTYPE=text/html:<br />\n<strong>Greater Shelby Chamber Hosts Inaugural &ldquo\;Small Business Summit&rdquo\;</strong><br />\n<br />\nAre you ready to make 2017 your best year in business yet? Then make plans to join us for the Inaugural &ldquo\;Small Business Summit&rdquo\; on November 10. This inaugural event\, hosted by the Chamber&rsquo\;s Small Business Work Group\, will feature an open panel discussion designed to give small businesses helpful tips to make 2017 the most successful year possible. Our panel of experts will cover the following areas: &nbsp\;Accounting/Tax &ndash\; Insurance &ndash\; Retirement &ndash\; Capital &ndash\; Human Resources.<br />\n<br />\nThe Small Business Summit will be held at the Chamber office on November 10. Doors will open at 8:15AM with the panel discussion beginning at 8:30AM and conclude 10:30AM.There is no cost to attend however reservations are requested by noon on November 8 due to limited seating.<br />\n<br />\nFor more information\, or to make a reservation\, please contact Payton Thomas\, the Chamber&rsquo\;s Director of Business Development &amp\; Support at payton@shelbychamber.org\, telephone at 663-4542\, ext. 105 or register online.
LOCATION:Greater Shelby Chamber 1301 County Services Drive Pelham\, AL 35124
UID:e.145.9784
SEQUENCE:3
DTSTAMP:20260421T165008Z
URL:https://business.shelbychamber.org/events/details/greater-shelby-chamber-inaugural-small-business-summit-9784
END:VEVENT

END:VCALENDAR
