BEGIN:VCALENDAR
VERSION:2.0
PRODID:-//ChamberMaster//Event Calendar 2.0//EN
METHOD:PUBLISH
X-PUBLISHED-TTL:P3D
REFRESH-INTERVAL:P3D
CALSCALE:GREGORIAN
BEGIN:VEVENT
DTSTART:20140327T180000Z
DTEND:20140327T200000Z
X-MICROSOFT-CDO-ALLDAYEVENT:FALSE
SUMMARY:Greater Shelby Chamber ~ Industry Tour AGC Automotive Americas
DESCRIPTION:Greater Shelby Chamber Quarterly Industry Tour Set for March 27 at AGC Automotive Americas\n\n\n\nThe Greater Shelby Chamber Existing Business and Industry Work Group will host its first quarter Industry Tour sponsored by Barge\, Waggoner\, Sumner & Cannon on Thursday\, March 27th at AGC Automotive Americas (AGC).\n\n\n\nAGC is a Tier 1 Automotive supplier of auto glass and are a part of the Asahi Glass Company Headquartered in Tokyo Japan.  AGC's products produced at the Alabaster facilities are:  windshields\, rear windows\, side windows\, quarter windows\, side vents\, sunroofs and panoramic roof panels.\n\n \n\nChamber members are invited to attend this tour from 1:00PM until 3:00PM and will feature an opportunity to see two plant facilities demonstrating all encapsulation and assembly processes for windshields\, rear windows\, truck rear slider window\, front and rear door glass\, side windows and quarter windows.\n\n\n\nParticipants will arrive on-site at AGC\, 101 Total Solutions Way\, Alabaster\, AL 35007.  Recommended attire is preferably long sleeve shirts or jacket and no open toe shoes. Safety glasses will be provided.\n\n\n\nThere is no cost to attend.  RSVP is required by Monday\, March 24. Please contact Brooke Story at 663-4542\, email brooke@shelbychamber.org or use the registration button online above. Space is limited to the first 30 guests.
X-ALT-DESC;FMTTYPE=text/html:<span style="font-size:12px\;"><span style="font-family: arial\;"><strong>Greater Shelby Chamber Quarterly Industry Tour Set for March 27 at AGC Automotive Americas</strong></span></span><br />\n<br />\nThe Greater Shelby Chamber Existing Business and Industry Work Group will host its first quarter Industry Tour sponsored by Barge\, Waggoner\, Sumner &amp\; Cannon on Thursday\, March 27th at AGC Automotive Americas (AGC).<br />\n<br />\nAGC is a Tier 1 Automotive supplier of auto glass and are a part of the Asahi Glass Company Headquartered in Tokyo Japan.&nbsp\; AGC&rsquo\;s products produced at the Alabaster facilities are:&nbsp\; windshields\, rear windows\, side windows\, quarter windows\, side vents\, sunroofs and panoramic roof panels.<br />\n&nbsp\;<br />\nChamber members are invited to attend this tour from 1:00PM until 3:00PM and will feature an opportunity to see two plant facilities demonstrating all encapsulation and assembly processes for windshields\, rear windows\, truck rear slider window\, front and rear door glass\, side windows and quarter windows.<br />\n<br />\nParticipants will arrive on-site at AGC\, 101 Total Solutions Way\, Alabaster\, AL 35007.&nbsp\; Recommended attire is preferably long sleeve shirts or jacket and no open toe shoes. Safety glasses will be provided.<br />\n<br />\nThere is no cost to attend.&nbsp\; RSVP is required by Monday\, March 24. Please contact Brooke Story at 663-4542\, email brooke@shelbychamber.org or use the registration button online above. Space is limited to the first 30 guests.
LOCATION:AGC Automotive Americas 101 Total Solutions Way Alabaster\, AL 35007
UID:e.145.5044
SEQUENCE:3
DTSTAMP:20260423T201958Z
URL:https://business.shelbychamber.org/events/details/greater-shelby-chamber-industry-tour-agc-automotive-americas-03-27-2014-5044
END:VEVENT

END:VCALENDAR
