BEGIN:VCALENDAR
VERSION:2.0
PRODID:-//ChamberMaster//Event Calendar 2.0//EN
METHOD:PUBLISH
X-PUBLISHED-TTL:P3D
REFRESH-INTERVAL:P3D
CALSCALE:GREGORIAN
BEGIN:VEVENT
DTSTART:20131205T150000Z
DTEND:20131206T050000Z
X-MICROSOFT-CDO-ALLDAYEVENT:FALSE
SUMMARY:Greater Shelby Chamber ~ Industry Tour Alabama Power Generating Plant
DESCRIPTION:Greater Shelby Chamber Quarterly Industry Tour Set for December 5 at the Alabama Power Generating Plant\n\n\n\nJoin the Chamber's Existing Business and Industry Work Group on Thursday\, December 5 from 9:00AM until 11:AM for its final Quarterly Industry Tour for 2013 at the Alabama Power Generating Plant.  This is an opportunity to learn how electricity is generated from coal or other fuels as well and includes a tour viewing the main pieces of equipment that make up a coal fired plant\n\n\n\nGuests need to arrive on-site at 9:00AM at the Alabama Power Generating Plant\, 31972 Hwy 25 N. Wilsonville\, AL  35186.  Directions:  Take I-65 South to Exit 228 (Timberline Golf Club Exit)\, pass Timberline Golf Club and turn right onto Hwy. 25. Follow Hwy. 25 to Wilsonville and continue onward until you see 456\, Alabama Power's Ernest C. Gaston Electric Engineering Plant on your right.\n\n\n\nSpace is limited to 20 guests.  If you are interested in attending\, we encourage you to register early to ensure your space availability.  Registrations will be taken on a first-come\, first-served basis.\n\n\n\nUse the Register Online button above and follow online directions\, call the Chamber at 663-4542 or email Brooke Story.\n\n\n\nWhat is the Existing Business & Industry Work Group?  The Existing Industry & Business Work Group recognizes and supports local industries through quarterly tours\, legislative actions\, seminars and other appropriate means. The Work Group organizes the annual Industry Appreciation Event held in February. The Work Group meets the 2nd Tuesday of each month @ 9:00AM @ Barge\, Waggoner\, Sumner & Cannon\, Inc. If you are interested in serving on this Chamber Work Group\, contact Brooke Story\, Director of Business Support and Development: brooke@shelbychamber.org or 663-4542.
X-ALT-DESC;FMTTYPE=text/html:<span style="font-size:12px\;"><span style="font-family: arial\;"><strong>Greater Shelby Chamber Quarterly Industry Tour Set for December 5 at the Alabama Power Generating Plant</strong></span></span><br />\n<br />\nJoin the Chamber&#39\;s Existing Business and Industry Work Group on Thursday\, December 5 from 9:00AM until 11:AM for its final Quarterly Industry Tour for 2013 at the Alabama Power Generating Plant.&nbsp\; This is an opportunity to learn how electricity is generated from coal or other fuels as well and includes a tour viewing the main pieces of equipment that make up a coal fired plant<br />\n<br />\nGuests need to arrive on-site at 9:00AM at the Alabama Power Generating Plant\, 31972 Hwy 25 N. Wilsonville\, AL&nbsp\; 35186.&nbsp\; Directions:&nbsp\; Take I-65 South to Exit 228 (Timberline Golf Club Exit)\, pass Timberline Golf Club and turn right onto Hwy. 25. Follow Hwy. 25 to Wilsonville and continue onward until you see 456\, Alabama Power&#39\;s Ernest C. Gaston Electric Engineering Plant on your right.<br />\n<br />\n<strong>Space is limited to 20 guests</strong>.&nbsp\; <em>If you are interested in attending\, we encourage you to register early to ensure your space availability.&nbsp\; Registrations will be taken on a first-come\, first-served basis.</em><br />\n<br />\nUse the Register Online button above and follow online directions\, call the Chamber at 663-4542 or email <a href="mailto:brooke@shelbychamber.org?subject=Greater%20Shelby%20Chamber%204th%20Quarter%20Industry%20Tour%20Alabama%20Power%20Plant">Brooke Story</a>.<br />\n<br />\n<span style="font-size:12px\;"><span style="font-family: arial\;"><strong><em>What is the Existing Business &amp\; Industry Work Group?</em></strong>&nbsp\; The Existing Industry &amp\; Business Work Group recognizes and supports local industries through quarterly tours\, legislative actions\, seminars and other appropriate means. The Work Group organizes the annual Industry Appreciation Event held in February. The Work Group meets the 2nd Tuesday of each month @ 9:00AM @ Barge\, Waggoner\, Sumner &amp\; Cannon\, Inc. If you are interested in serving on this <a href="http://www.shelbychamber.org/default.asp?ID=58">Chamber Work Group</a>\, contact Brooke Story\, Director of Business Support and Development: <a href="mailto:brooke@shelbychamber.org?subject=Interested%20in%20Participating%20in%20July%20Industry%20Tour%20at%20AC%20Legg%2C%20Inc.">brooke@shelbychamber.org</a> or 663-4542.</span></span>
LOCATION:Alabama Power Generating Plant Ernest C. Gaston Steam Plant Hwy 25 N. to Gaston Steam Plant Road Wilsonville\, AL 35186
UID:e.145.4907
SEQUENCE:3
DTSTAMP:20260424T003248Z
URL:https://business.shelbychamber.org/events/details/greater-shelby-chamber-industry-tour-alabama-power-generating-plant-12-05-2013-4907
END:VEVENT

END:VCALENDAR
