BEGIN:VCALENDAR
VERSION:2.0
PRODID:-//ChamberMaster//Event Calendar 2.0//EN
METHOD:PUBLISH
X-PUBLISHED-TTL:P3D
REFRESH-INTERVAL:P3D
CALSCALE:GREGORIAN
BEGIN:VEVENT
DTSTART:20160119T173000Z
DTEND:20160119T190000Z
X-MICROSOFT-CDO-ALLDAYEVENT:FALSE
SUMMARY:Greater Shelby Chamber - Investor Reception
DESCRIPTION:Enjoy a FREE Lunch on January 19 & Make Sure Your Taking Full Advantage of All Your Investor Benefits\n\n\n\nYes\, there truly is such a thing as a "Free Lunch"   especially on January 19!  We encourage you to join your fellow investors and Chamber staff at our first quarter Investor Reception\, sponsored by Mutual Savings Credit Union\, for some business networking and to learn how to maximize your investment.\n\n\n\nWhether your firm is a new member or\, a long-time Chamber member\, you'll want to make plans to join us from 11:30AM-1:00PM at the Holiday Inn Express in Pelham to make sure you and your colleagues are taking full advantage of your investment.\n\n\n\nA complimentary lunch provided by the sponsor   Rx Catering -- will be available for all attendees.  Reservations are requested   and space is limited -- so please contact the Chamber via e-mail at info@shelbychamber.org or by phone at 663-4542 or use online registration above no later than January 18 to reserve your place.
X-ALT-DESC;FMTTYPE=text/html:<div style="text-align: center\;"><br />\n<strong>Enjoy a FREE Lunch on January 19 &amp\; Make Sure Your Taking Full Advantage of All Your Investor Benefits</strong></div>\n\n<div><br />\nYes\, there truly is such a thing as a &ldquo\;Free Lunch&rdquo\; &ndash\; especially on January 19!&nbsp\; We encourage you to join your fellow investors and Chamber staff at our first quarter Investor Reception\, sponsored by <a href="http://www.mutualsavings.org/">Mutual Savings Credit Union</a>\, for some business networking and to learn how to maximize your investment.<br />\n<br />\nWhether your firm is a new member or\, a long-time Chamber member\, you&rsquo\;ll want to make plans to <strong>join us from 11:30AM-1:00PM at the Holiday Inn Express in Pelham</strong> to make sure you and your colleagues are taking full advantage of your investment.<br />\n<br />\nA complimentary lunch provided by the sponsor &ndash\; <a href="http://rxcatering.net/">Rx Catering</a> -- will be available for all attendees.&nbsp\; Reservations are requested &ndash\; and space is limited -- so please contact the Chamber via e-mail at info@shelbychamber.org or by phone at 663-4542 or use online registration above no later than January 18 to reserve your place.</div>\n
LOCATION:Holiday Inn Express Pelham 260 Cahaba Valley Road Pelham\, AL 35124 987-8888
UID:e.145.8045
SEQUENCE:3
DTSTAMP:20260422T110807Z
URL:https://business.shelbychamber.org/events/details/greater-shelby-chamber-investor-reception-01-19-2016-8045
END:VEVENT

END:VCALENDAR
