BEGIN:VCALENDAR
VERSION:2.0
PRODID:-//ChamberMaster//Event Calendar 2.0//EN
METHOD:PUBLISH
X-PUBLISHED-TTL:P3D
REFRESH-INTERVAL:P3D
CALSCALE:GREGORIAN
BEGIN:VEVENT
DTSTART:20170227T173000Z
DTEND:20170227T190000Z
X-MICROSOFT-CDO-ALLDAYEVENT:FALSE
SUMMARY:Greater Shelby Chamber - Investor Reception
DESCRIPTION:Is Your Organization Taking Full Advantage of Your Chamber Investor Benefits?\n\nJoin us on April 13 for the Greater Shelby Chamber's Investor Reception\n\n\n\nYes\, there truly is such a thing as a "Free Lunch"   especially on April 13!  We encourage you to join your fellow investors and Chamber staff for some business networking and to learn how to maximize your investment.\n\n\n\nWhether your firm is a new -- or long-time investor --you'll want to make plans to join us from 11:30AM until 1:00PM to make sure you and your colleagues are taking full advantage of your annual investment.\n\n\n\nA complimentary lunch provided by the 2017 presenting sponsor -- Mutual Savings Credit Union -- will be available for all attendees. Reservations are requested   and space is limited -- so please contact the Chamber via e-mail at info@shelbychamber.org\, by phone at 663-4542 or register online by no later than April 12 to reserve your place.
X-ALT-DESC;FMTTYPE=text/html:<div>&nbsp\;</div>\n\n<div style="text-align: center\;"><strong>Is Your Organization Taking Full Advantage of Your Chamber Investor Benefits?<br />\nJoin us on April&nbsp\;13&nbsp\;for the Greater Shelby Chamber&#39\;s Investor Reception</strong></div>\n\n<div><br />\nYes\, there truly is such a thing as a &ldquo\;Free Lunch&rdquo\; &ndash\; especially on April 13!&nbsp\; We encourage you to join your fellow investors and Chamber staff for some business networking and to learn how to maximize your investment.<br />\n<br />\n<strong>Whether your firm is a new -- or long-time investor</strong> --you&rsquo\;ll want to make plans to join us from 11:30AM until 1:00PM to make sure you and your colleagues are taking full advantage of your annual investment.<br />\n<br />\nA complimentary lunch provided by the 2017 presenting sponsor --&nbsp\;<a href="http://www.mutualsavings.org/">Mutual Savings Credit Union</a> -- will be available for all attendees. Reservations are requested &ndash\; and space is limited -- so please contact the Chamber via e-mail at <a href="mailto:info@shelbychamber.org?subject=Request%20to%20Register%20for%20GSCCC%20Investor%20Reception%20April%2014">info@shelbychamber.org</a>\, by phone at 663-4542 or register online by no later than April 12&nbsp\;to reserve your place.</div>\n
LOCATION:Greater Shelby County Chamber of Commerce 1301 County Services Drive Pelham\, AL 35124 663-4542
UID:e.145.10502
SEQUENCE:3
DTSTAMP:20260421T103635Z
URL:https://business.shelbychamber.org/events/details/greater-shelby-chamber-investor-reception-10502
END:VEVENT

END:VCALENDAR
