BEGIN:VCALENDAR
VERSION:2.0
PRODID:-//ChamberMaster//Event Calendar 2.0//EN
METHOD:PUBLISH
X-PUBLISHED-TTL:P3D
REFRESH-INTERVAL:P3D
CALSCALE:GREGORIAN
BEGIN:VEVENT
DTSTART:20150709T223000Z
DTEND:20150710T000000Z
X-MICROSOFT-CDO-ALLDAYEVENT:FALSE
SUMMARY:Greater Shelby Chamber - July Business After Hours @ Jake's Southern & Caribbean Cafe
DESCRIPTION:July Business After Hours Features Networking\, Caribbean & Soul at Jake's Southern & Caribbean Cafe\n\n\n\nMark your calendar for Thursday\, July 9 and join us at Jake's Southern & Caribbean Cafe\, 3569 Pelham Parkway\, Pelham from 5:30PM until 7:00PM for Shelby County's best business networking event! Jake's takes Caribbean & Soul dishes to a whole new level. The atmosphere is so conducive for fun networking\, nibbling on delectable dishes & enjoying cool refreshing beverages.\n\n\n\nThe Chamber's quarterly Business After Hours -- sponsored by Shelby County Newspapers -- are a great way to make new business contacts   and have a little fun while you're doing it!  The cost to attend is affordable   only $10 for Chamber members ($20 for "Future" members)   and that includes hot\, heavy hors d'oeuvres and two complimentary beverages of your choice.\n\n\n\nAdvance reservations are requested by July 7\, so please contact the Chamber by phone at 663-4542\, via e-mail at info@shelbychamber.org or use online registration.\n\n\n\nBusiness After Hours events are premier networking opportunities\, offering members and guests the chance to meet business professionals representing products and services in a relaxed\, social setting. Members attending have an opportunity to exchange business cards and become acquainted with other businesses throughout the community.  Bring plenty of business cards!
X-ALT-DESC;FMTTYPE=text/html:<br />\n<strong>July Business After Hours Features Networking\, Caribbean &amp\; Soul at Jake&#39\;s Southern &amp\; Caribbean Cafe</strong><br />\n<br />\nMark your calendar for Thursday\, July 9 and join us at <a href="http://www.jakescafepelham.com/">Jake&#39\;s Southern &amp\; Caribbean Cafe</a>\, 3569 Pelham Parkway\, Pelham from 5:30PM until 7:00PM for Shelby County&rsquo\;s best business networking event! Jake&#39\;s takes Caribbean &amp\; Soul dishes to a whole new level. The atmosphere is so conducive for fun networking\, nibbling on delectable dishes &amp\; enjoying cool refreshing beverages.<br />\n<br />\nThe Chamber&rsquo\;s quarterly Business After Hours -- sponsored by Shelby County Newspapers -- are a great way to make new business contacts &ndash\; and have a little fun while you&rsquo\;re doing it!&nbsp\; The cost to attend is affordable &ndash\; only $10 for Chamber members ($20 for &ldquo\;Future&rdquo\; members) &ndash\; and that includes hot\, heavy hors d&rsquo\;oeuvres and two complimentary beverages of your choice.<br />\n<br />\nAdvance reservations are requested by July 7\, so please contact the Chamber by phone at 663-4542\, via e-mail at info@shelbychamber.org or use online registration.<br />\n<br />\n<a href="http://www.shelbychamber.org/default.asp?ID=109">Business After Hours</a> events are premier networking opportunities\, offering members and guests the chance to meet business professionals representing products and services in a relaxed\, social setting. Members attending have an opportunity to exchange business cards and become acquainted with other businesses throughout the community.&nbsp\; <em>Bring plenty of business cards!</em>
LOCATION:Jake's Southern & Caribbean Cafe Restaurant 3569 Pelham Parkway Pelham\, AL 35124 (205) 624-3315
UID:e.145.7713
SEQUENCE:3
DTSTAMP:20260422T200213Z
URL:https://business.shelbychamber.org/events/details/greater-shelby-chamber-july-business-after-hours-jake-s-southern-caribbean-cafe-07-09-2015-7713
END:VEVENT

END:VCALENDAR
