BEGIN:VCALENDAR
VERSION:2.0
PRODID:-//ChamberMaster//Event Calendar 2.0//EN
METHOD:PUBLISH
X-PUBLISHED-TTL:P3D
REFRESH-INTERVAL:P3D
CALSCALE:GREGORIAN
BEGIN:VEVENT
DTSTART:20110727T160000Z
DTEND:20110727T180000Z
X-MICROSOFT-CDO-ALLDAYEVENT:FALSE
SUMMARY:Greater Shelby Chamber ~ July Membership Luncheon featuring John Stewart
DESCRIPTION:Join us for the July membership luncheon as we welcome keynote speaker\, John Stewart\, III\, the President for the University of Montevallo.\n\n\n\n    John W. Stewart III is the University of Montevallo's 15th president. The UM Board of Trustees selected Dr. Stewart as the University's new leader at a special meeting March 3. Dr. Stewart came to UM in mid-June from his position as vice president for institutional advancement at Flagler College in St. Augustine\, Fla.\n\n    Stewart brings a unique mix of experience to Montevallo\, including marketing\, in industry\, fundraising and teaching. He received a doctorate in English with a focus on African/Caribbean and Harlem Renaissance literature from the University of Southern Mississippi. He also holds an M.A. in English from Washington College in Chestertown\, Md.\, and a B.A. in history from Wake Forest University.\n\n\n\nThe Showcase Feature will be the cities of Hoover and Indian Springs.\n\n\n\nInvestment :\n\n$17 for Greater Shelby Chamber members\,\n\n$25 for non-members.  NOTICE the price increase for non-members.\n\n\n\nAvoid the long lines and utilize Express Check-in at the luncheon by using online registration.\n\n\n\nRegister online by clicking above and using your member login and password to receive the member rate!  If you need your member login and/or password contact the Chamber.\n\n\n\n*NOTICE:  If you make a reservation for the luncheon and are unable to attend you must cancel at least TWO days prior to the luncheon to avoid being charged.
X-ALT-DESC;FMTTYPE=text/html:<strong>Join us for the July membership luncheon as we welcome keynote speaker\, John Stewart\, III\, the President for the University of Montevallo.</strong><br />\n<br />\n&nbsp\;&nbsp\; &nbsp\;John W. Stewart III is the University of Montevallo&rsquo\;s 15th president. The UM Board of Trustees selected Dr. Stewart as the University&rsquo\;s new leader at a special meeting March 3. Dr. Stewart came to UM in mid-June from his position as vice president for institutional advancement at Flagler College in St. Augustine\, Fla.<br />\n&nbsp\;&nbsp\; &nbsp\;Stewart brings a unique mix of experience to Montevallo\, including marketing\, in industry\, fundraising and teaching. He received a doctorate in English with a focus on African/Caribbean and Harlem Renaissance literature from the University of Southern Mississippi. He also holds an M.A. in English from Washington College in Chestertown\, Md.\, and a B.A. in history from Wake Forest University.<br />\n<br />\nThe <a href="http://www.shelbychamber.org/default.asp?ID=45">Showcase Feature</a> will be the cities of Hoover and Indian Springs.<br />\n<br />\nInvestment :<br />\n$17 for Greater Shelby Chamber members\,<br />\n<strong>$25 for non-members</strong>.&nbsp\; <strong>NOTICE the price increase for non-members.</strong><br />\n<br />\n<strong>Avoid the long lines and utilize Express Check-in at the luncheon by using online registration.</strong><br />\n<br />\nRegister online by clicking above and using your member login and password to receive the member rate!&nbsp\; If you need your member login and/or password contact the Chamber.<br />\n<br />\n*<u><strong>NOTICE</strong></u><strong>:&nbsp\; If you make a reservation for the luncheon and are unable to attend you must cancel at least TWO days prior to the luncheon to avoid being charged.</strong>
LOCATION:Pelham Civic Complex 500 Amphitheater Road\, Pelham AL 35124 (205) 620-6448
UID:e.145.3407
SEQUENCE:3
DTSTAMP:20260425T232813Z
URL:https://business.shelbychamber.org/events/details/greater-shelby-chamber-july-membership-luncheon-featuring-john-stewart-07-27-2011-3407
END:VEVENT

END:VCALENDAR
