BEGIN:VCALENDAR
VERSION:2.0
PRODID:-//ChamberMaster//Event Calendar 2.0//EN
METHOD:PUBLISH
X-PUBLISHED-TTL:P3D
REFRESH-INTERVAL:P3D
CALSCALE:GREGORIAN
BEGIN:VEVENT
DTSTART:20110629T160000Z
DTEND:20110629T180000Z
X-MICROSOFT-CDO-ALLDAYEVENT:FALSE
SUMMARY:Greater Shelby Chamber ~ June Membership Luncheon TIPs Recognition
DESCRIPTION:Teacher Internship Program (TIPs) Recognition and Shelby County Legislative Delegation\n\n\n\nJoin us for the June Membership Luncheon as we honor the teachers that participated in the Teacher Internship Program (TIPs).  What is the TIPs Program?  It's the Education initiative of THE PARTNERSHIP for Shelby County educators which offers teachers a three-day experience in the "world of business" to incorporate into lesson plans for their students. Member businesses that hosted a teacher for the TIPs Program\, strengthened the relationship between the education and business communities.  We will also salute these businesses for participating in the program.\n\n\n\nThe Shelby County Legislative Delegation will also speak at the June luncheon.\n\n\n\nThe Showcase City Feature will be businesses from Helena and Westover during networking.\n\n\n\nThank you to Alabama Power for sponsoring this luncheon.\n\n\n\nThe June luncheon will be held from 11 am until 1 pm on June 29th at the Pelham Civic Complex.\n\n\n\nInvestment:\n\n$17 for Greater Shelby Chamber members\,\n\n$25 for non-members.\n\nNOTICE the price increase for non-members.\n\n\n\nRSVP required by Monday\, June 27th.
X-ALT-DESC;FMTTYPE=text/html:<strong>Teacher Internship Program (TIPs) Recognition and Shelby County Legislative Delegation</strong><br />\n<br />\nJoin us for the June Membership Luncheon as we honor the teachers that participated in the Teacher Internship Program (TIPs).&nbsp\; <em>What is the TIPs Program?</em>&nbsp\; It&#39\;s the Education initiative of THE PARTNERSHIP for Shelby County educators which offers teachers a three-day experience in the &quot\;world of business&quot\; to incorporate into lesson plans for their students. Member businesses that hosted a teacher for the TIPs Program\, strengthened the relationship between the education and business communities.&nbsp\; We will also salute these businesses for participating in the program.<br />\n<br />\n<strong>The Shelby County Legislative Delegation will also speak at the June luncheon.</strong><br />\n<br />\nThe <a href="http://www.shelbychamber.org/default.asp?ID=45">Showcase City Feature</a> will be businesses from <a href="http://www.cityofhelena.org/">Helena</a> and <a href="http://www.westoveralabama.org/">Westover</a> during networking.<br />\n<br />\nThank you to <a href="http://www.southernco.com/">Alabama Power</a> for sponsoring this luncheon.<br />\n<br />\nThe June luncheon will be held from 11 am until 1 pm on June 29th at the Pelham Civic Complex.<br />\n<br />\n<u><strong>Investment</strong></u>:<br />\n$17 for Greater Shelby Chamber members\,<br />\n<strong>$25 for non-members</strong>.<br />\n<strong>NOTICE the price increase for non-members.</strong><br />\n<br />\nRSVP required by Monday\, June 27th.
LOCATION:Pelham Civic Complex 500 Amphitheater Road\, Pelham AL 35124
UID:e.145.3408
SEQUENCE:3
DTSTAMP:20260426T005636Z
URL:https://business.shelbychamber.org/events/details/greater-shelby-chamber-june-membership-luncheon-tips-recognition-06-29-2011-3408
END:VEVENT

END:VCALENDAR
