BEGIN:VCALENDAR
VERSION:2.0
PRODID:-//ChamberMaster//Event Calendar 2.0//EN
METHOD:PUBLISH
X-PUBLISHED-TTL:P3D
REFRESH-INTERVAL:P3D
CALSCALE:GREGORIAN
BEGIN:VEVENT
DTSTART:20161006T180000Z
DTEND:20161006T200000Z
X-MICROSOFT-CDO-ALLDAYEVENT:FALSE
SUMMARY:Greater Shelby Chamber - Keeping It Real @ Cornerstone Christian School
DESCRIPTION:Seeking Volunteers for "Keeping It Real" Program at Cornerstone Christian School\n\n\n\nCornerstone Christian School freshman will get a perspective of what it cost to live in the adult world when the Greater Shelby County Chamber of Commerce brings its ShelbyOne Initiative program "Keeping it Real" to the school on October 6.\n\n\n\nThe first the students learn the difference between gross and net income and the importance of budgeting.Then the students visit 12 stations with their income worksheets to pay bills that corresponded with expenses. Volunteers are needed for the second part  only -- Thursday\, October 6.\n\n\n\nThe program is co-sponsored by The UPS Store Caldwell Mill Road and Central State Bank. Keyla Handley\, Community and Investor Development Director\, is seeking volunteers from 1:00PM-2:30PM on Thursday\, October 6. Volunteers will manage a station (Ex: housing\, groceries\, clothing\, insurance\, education\, child care\, etc.) to assist 9th grade students as they "pay bills" and make "life choices" based on a random-assigned life scenario.\n\n\n\nIf you are interested in being a volunteer for the second part\, please call 663-4542 or email Keyla.\n\n\n\nVolunteers would arrive at 1:30PM and the program would conclude by 3:00PM.
X-ALT-DESC;FMTTYPE=text/html:<strong>Seeking Volunteers for &quot\;Keeping It Real&quot\; Program at Cornerstone Christian School</strong><br />\n<br />\nCornerstone Christian School freshman will get a perspective of what it cost to live in the adult world when the Greater Shelby County Chamber of Commerce brings its ShelbyOne Initiative program &quot\;Keeping it Real&quot\; to the school on October 6.<br />\n<br />\nThe first the students learn the difference between gross and net income and the importance of budgeting.Then the students visit 12 stations with their income worksheets to pay bills that corresponded with expenses. Volunteers are needed for the second part&nbsp\; only -- Thursday\, October 6.<br />\n<br />\nThe program is co-sponsored by The UPS Store Caldwell Mill Road and Central State Bank. Keyla Handley\, Community and Investor Development Director\, is seeking volunteers from 1:00PM-2:30PM on Thursday\, October 6. Volunteers will manage a station (Ex: housing\, groceries\, clothing\, insurance\, education\, child care\, etc.) to assist 9th grade students as they &quot\;pay bills&quot\; and make &quot\;life choices&quot\; based on a random-assigned life scenario.<br />\n<br />\nIf you are interested in being a volunteer for the second part\, please call 663-4542 or email Keyla.<br />\n<br />\nVolunteers would arrive at 1:30PM and the program would conclude by 3:00PM.<br />\n&nbsp\;
LOCATION:Cornerstone Christian School 24975 Highway 25 Columbiana\, AL 35051
UID:e.145.9738
SEQUENCE:3
DTSTAMP:20260421T165802Z
URL:https://business.shelbychamber.org/events/details/greater-shelby-chamber-keeping-it-real-cornerstone-christian-school-9738
END:VEVENT

END:VCALENDAR
