BEGIN:VCALENDAR
VERSION:2.0
PRODID:-//ChamberMaster//Event Calendar 2.0//EN
METHOD:PUBLISH
X-PUBLISHED-TTL:P3D
REFRESH-INTERVAL:P3D
CALSCALE:GREGORIAN
BEGIN:VEVENT
DTSTART:20150227T133000Z
DTEND:20150227T210000Z
X-MICROSOFT-CDO-ALLDAYEVENT:FALSE
SUMMARY:Greater Shelby Chamber - Keeping It Real @ Shelby County High School
DESCRIPTION:Seeking Volunteers for "Keeping It Real" Program at Shelby County High School\n\n\n\nShelby County High School freshman will get a perspective of what it cost to live in the adult world when the Greater Shelby County Chamber of Commerce brings its ShelbyOne Initiative program "Keeping it Real" to the school on February 26 & 27.\n\n\n\nThe first day students learn the difference between gross and net income and the importance of budgeting.\n\n\n\nThe second day students visit 12 stations with their income worksheets to pay bills that corresponded with expenses. Volunteers are needed on the second day only.\n\n\n\nThe program is co-sponsored by The UPS Store Caldwell Mill Road and Legacy Community Federal Credit Union.\n\n\n\nKeyla Handley\, Community and Workforce Development Director\, is seeking volunteers for 1/2 - one day on Friday\, February 27. Volunteers will manage a station (Ex: housing\, groceries\, clothing\, insurance\, education\, child care\, etc.) to assist 9th grade students as they "pay bills" and make "life choices" based on a random-assigned life scenario.\n\n\n\nIf you are interested in being a volunteer for a few hours or the day\, please call 663-4542 or email Keyla.\n\n\n\nVolunteers would arrive at Oak Mountain High School as early as 7:30AM and the program would conclude by 3:00PM. Lunch is provided for all volunteers.
X-ALT-DESC;FMTTYPE=text/html:<br />\n<span style="font-family:arial\;"><span style="font-size:14px\;"><strong>Seeking Volunteers for &quot\;Keeping It Real&quot\; Program at Shelby County High School</strong></span><br />\n<br />\n<a href="http://www.shelbyed.k12.al.us/schools/schs/index.htm">Shelby County High School</a> freshman will get a perspective of what it cost to live in the adult world when the <a href="http://www.shelbychamber.org/GSCHome.asp?ID=2">Greater Shelby County Chamber of Commerce</a> brings its <a href="http://www.shelbychamber.org/default.asp?ID=26"><strong>ShelbyOne</strong></a> Initiative program &quot\;Keeping it Real&quot\; to the school on <strong>February 26 &amp\; 27</strong>.<br />\n<br />\nThe first day students learn the difference between gross and net income and the importance of budgeting.<br />\n<br />\nThe second day students visit 12 stations with their income worksheets to pay bills that corresponded with expenses. <em><strong>Volunteers are needed on the second day only.</strong></em><br />\n<br />\nThe program is co-sponsored by <a href="http://theupsstorelocal.com/2389/">The UPS</a><a href="http://theupsstorelocal.com/2389/"> Store Caldwell Mill Road</a> and <a href="http://www.legacycreditunion.com/">Legacy Community Federal Credit Union</a>.<br />\n<br />\n<em><strong>Keyla Handley\, Community and Workforce Development Director\,<span style="color:#000000\;"> </span></strong></em>is seeking volunteers for 1/2 - one day on Friday\, February 27. Volunteers will manage a station (Ex: housing\, groceries\, clothing\, insurance\, education\, child care\, etc.) to assist 9th grade students as they &quot\;pay bills&quot\; and make &quot\;life choices&quot\; based on a random-assigned life scenario.<br />\n<br />\n<strong><em><span style="color:#000000\;">If you are interested in being a volunteer for a <u>few hours or the day</u>\, please call 663-4542 or email </span><a href="mailto:keyla@shelbychamber.org?subject=Keeping%20It%20Real%20Oak%20Mountain%20HS%20Volunteer%20Interest%20April%2010">Keyla</a></em>.</strong><br />\n<br />\nVolunteers would arrive at Oak Mountain High School as early as 7:30AM and the program would conclude by 3:00PM. Lunch is provided for all volunteers.</span>
LOCATION:Oak Mountain High School 5476 Caldwell Mill Road Birmingham Alabama 35242
UID:e.145.7348
SEQUENCE:3
DTSTAMP:20260423T034827Z
URL:https://business.shelbychamber.org/events/details/greater-shelby-chamber-keeping-it-real-shelby-county-high-school-02-27-2015-7348
END:VEVENT

END:VCALENDAR
