BEGIN:VCALENDAR
VERSION:2.0
PRODID:-//ChamberMaster//Event Calendar 2.0//EN
METHOD:PUBLISH
X-PUBLISHED-TTL:P3D
REFRESH-INTERVAL:P3D
CALSCALE:GREGORIAN
BEGIN:VEVENT
DTSTART:20160122T133000Z
DTEND:20160122T210000Z
X-MICROSOFT-CDO-ALLDAYEVENT:FALSE
SUMMARY:Greater Shelby Chamber - Keeping It Real @ Thompson High School
DESCRIPTION:Seeking Volunteers for "Keeping It Real" Program at Thompson High School\n\n\n\nThompson High School freshman will get a perspective of what it cost to live in the adult world when the Greater Shelby County Chamber of Commerce brings its ShelbyOne Initiative program "Keeping it Real" to the school on January 21st and 22nd.\n\n\n\nThe first day students learn the difference between gross and net income and the importance of budgeting. (No volunteers needed on day one.)\n\n\n\nThe second day students visit 12 stations with their income worksheets to pay bills that corresponded with expenses. (Volunteers are needed on the second day only.)\n\n\n\nThe program is co-sponsored by The UPS Store Caldwell Mill Road and Legacy Community Federal Credit Union.\n\n\n\nKelly Anderson\, Manager\, Workforce Development\, is seeking volunteers on January 22nd. Volunteers will manage a station (Ex: housing\, groceries\, clothing\, insurance\, education\, child care\, etc.) to assist 9th grade students as they "pay bills" and make "life choices" based on a random-assigned life scenario.\n\n\n\nIf you are interested in being a volunteer for a few hours or the day\, please register now or call 663-4542 or email Kelly.\n\n\n\nVolunteers would arrive at Thompson High School as early as 7:30AM and the program would conclude by 3:00PM. Lunch is provided for all volunteers.
X-ALT-DESC;FMTTYPE=text/html:<br />\n<strong>Seeking Volunteers for &quot\;Keeping It Real&quot\; Program at&nbsp\;Thompson High School</strong><br />\n<br />\n<span style="line-height: 20.8px\;">Thompson</span>&nbsp\;High School freshman will get a perspective of what it cost to live in the adult world when the Greater Shelby County Chamber of Commerce brings its ShelbyOne Initiative program &quot\;Keeping it Real&quot\; to the school on January 21st and 22nd.<br />\n<br />\nThe first day students learn the difference between gross and net income and the importance of budgeting. (No volunteers needed on day one.)<br />\n<br />\nThe second day students visit 12 stations with their income worksheets to pay bills that corresponded with expenses. (Volunteers are needed on the second day only.)<br />\n<br />\nThe program is co-sponsored by The UPS Store Caldwell Mill Road and Legacy Community Federal Credit Union.<br />\n<br />\nKelly Anderson\, Manager\, Workforce Development\, is <em><strong>seeking volunteers on January 22nd</strong></em>. Volunteers will manage a station (Ex: housing\, groceries\, clothing\, insurance\, education\, child care\, etc.) to assist 9th grade students as they &quot\;pay bills&quot\; and make &quot\;life choices&quot\; based on a random-assigned life scenario.<br />\n<br />\nIf you are interested in being a volunteer for a few hours or the day\, please register now or call 663-4542 or email Kelly.<br />\n<br />\n<em><strong>Volunteers would arrive at&nbsp\;<span style="line-height: 20.8px\;">Thompson</span>&nbsp\;High School as early as 7:30AM and the program would conclude by 3:00PM. Lunch is provided for all volunteers.</strong></em><br />\n&nbsp\;
LOCATION:Thompson High School 100 Warrior Dr\, Alabaster\, AL 35007
UID:e.145.8245
SEQUENCE:3
DTSTAMP:20260422T110848Z
URL:https://business.shelbychamber.org/events/details/greater-shelby-chamber-keeping-it-real-thompson-high-school-01-22-2016-8245
END:VEVENT

END:VCALENDAR
