BEGIN:VCALENDAR
VERSION:2.0
PRODID:-//ChamberMaster//Event Calendar 2.0//EN
METHOD:PUBLISH
X-PUBLISHED-TTL:P3D
REFRESH-INTERVAL:P3D
CALSCALE:GREGORIAN
BEGIN:VEVENT
DTSTART:20170224T133000Z
DTEND:20170224T210000Z
X-MICROSOFT-CDO-ALLDAYEVENT:FALSE
SUMMARY:Greater Shelby Chamber - Keeping It Real @ Vincent High School
DESCRIPTION:Seeking Volunteers for "Keeping It Real" Program at Vincent High School\n\n\n\nVincent High School freshman will get a perspective of what it cost to live in the adult world when the Greater Shelby County Chamber of Commerce brings its ShelbyOne Initiative program "Keeping it Real" to the school on February 23th and 24th.\n\n\n\nThe first day students learn the difference between gross and net income and the importance of budgeting. (No volunteers needed on day one.)\n\n\n\nThe second day students visit 12 stations with their income worksheets to pay bills that corresponded with expenses. (Volunteers are needed on the second day only.)\n\n\n\nThe program is co-sponsored by The UPS Store Caldwell Mill Road and Central State Bank.\n\n\n\nKeyla Handley\, Director of Community & Investor Development\, is seeking volunteers on February 24th. Volunteers will manage a station (Ex: housing\, groceries\, clothing\, insurance\, education\, child care\, etc.) to assist 9th grade students as they "pay bills" and make "life choices" based on a random-assigned life scenario.\n\n\n\nIf you are interested in being a volunteer for a few hours or the day\, please register now or call 663-4542 or email Keyla.\n\n\n\nVolunteers would arrive at Vincent High School as early as 7:30AM and the program would conclude by 3:00PM. Lunch is provided for all volunteers.
X-ALT-DESC;FMTTYPE=text/html:<br />\n<strong>Seeking Volunteers for &quot\;Keeping It Real&quot\; Program at&nbsp\;Vincent&nbsp\;High School</strong><br />\n<br />\nVincent High School freshman will get a perspective of what it cost to live in the adult world when the Greater Shelby County Chamber of Commerce brings its ShelbyOne Initiative program &quot\;Keeping it Real&quot\; to the school on February 23th&nbsp\;and 24th.<br />\n<br />\nThe first day students learn the difference between gross and net income and the importance of budgeting. (No volunteers needed on day one.)<br />\n<br />\nThe second day students visit 12 stations with their income worksheets to pay bills that corresponded with expenses. (Volunteers are needed on the second day only.)<br />\n<br />\nThe program is co-sponsored by The UPS Store Caldwell Mill Road and Central State Bank.<br />\n<br />\nKeyla Handley\, Director of Community &amp\; Investor Development\, is <em><strong>seeking volunteers on February&nbsp\;24th</strong></em>. Volunteers will manage a station (Ex: housing\, groceries\, clothing\, insurance\, education\, child care\, etc.) to assist 9th grade students as they &quot\;pay bills&quot\; and make &quot\;life choices&quot\; based on a random-assigned life scenario.<br />\n<br />\nIf you are interested in being a volunteer for a few hours or the day\, please register now or call 663-4542 or email Keyla.<br />\n<br />\n<em><strong>Volunteers would arrive at&nbsp\;<span style="line-height: 20.8px\;">Vincent</span>&nbsp\;High School as early as 7:30AM and the program would conclude by 3:00PM. Lunch is provided for all volunteers.</strong></em><br />\n&nbsp\;
LOCATION:Vincent High School 42505 AL-25 Vincent\, AL 35178
UID:e.145.9746
SEQUENCE:3
DTSTAMP:20260421T103635Z
URL:https://business.shelbychamber.org/events/details/greater-shelby-chamber-keeping-it-real-vincent-high-school-9746
END:VEVENT

END:VCALENDAR
