BEGIN:VCALENDAR
VERSION:2.0
PRODID:-//ChamberMaster//Event Calendar 2.0//EN
METHOD:PUBLISH
X-PUBLISHED-TTL:P3D
REFRESH-INTERVAL:P3D
CALSCALE:GREGORIAN
BEGIN:VEVENT
DTSTART:20120328T160000Z
DTEND:20120328T180000Z
X-MICROSOFT-CDO-ALLDAYEVENT:FALSE
SUMMARY:Greater Shelby Chamber Luncheon ~ featuring Richard Bishop\, Principal Calera H.S
DESCRIPTION:Richard Bishop\, Principal of Calera High School\, shares honor of Calera High School being named CLAS Banner School at March Luncheon.\n\n\n\nCalera High School Named CLAS Banner School -- 3/14/2012\n\n\n\nCalera High School is one of 10 schools in Alabama to be named as Banner School by the Council for Leaders in Alabama Schools (CLAS).  The award recognizes schools or programs that serve as outstanding educational models for other schools in Alabama.\n\n\n\nThe CLAS Banner School program was created in 2001 to recognize schools in Alabama that showcase outstanding programs and service to students.  This year\, 142 schools or programs were nominated for the prestigious award\, but only 10 were selected.  In addition to Calera High School the other schools were\, Butler County Bright Beginnings Pre-K\, Cullman Middle School\, Engineering Academy of Austin and Decatur High Schools\, Piedmont Elementary School\, Piney Chapel Elementary School\, Priceville Elementary School\, Rockwell Elementary School\, Sequoyah School\, and Winterboro School.  The ten schools/programs will be recognized at a luncheon on April 24 in Montgomery.\n\n\n\n"On our application we highlighted the service learning activities of our clubs\, our outreach to different levels of students through the advisory period\, My Future Project\, A+ College Ready program and the accomplishments of our BUV team - including their work with the development of a prosthetic leg\," said Calera Principal Richard Bishop. "This is a tribute to the hard work of our faculty and their dedication to our students."\n\n\n\n"Through the collaborative efforts of Mr. Richard Bishop\, his leadership team\, faculty and staff\, Calera High School as emerged as one of the innovative leaders in Shelby County\, as well as the state of Alabama\," said Superintendent Randy Fuller.\n\n\n\nRichard Bishop\n\nPrincipal\n\nCalera High School\n\n100 Calera Eagle Drive\n\nCalera\, AL 35040\n\n(205) 682-6100
X-ALT-DESC;FMTTYPE=text/html:Richard Bishop\, Principal of Calera High School\, shares honor of Calera High School being named CLAS Banner School at March Luncheon.<br />\n<br />\nCalera High School Named CLAS Banner School -- 3/14/2012<br />\n<br />\nCalera High School is one of 10 schools in Alabama to be named as Banner School by the Council for Leaders in Alabama Schools (CLAS).&nbsp\; The award recognizes schools or programs that serve as outstanding educational models for other schools in Alabama.<br />\n<br />\nThe CLAS Banner School program was created in 2001 to recognize schools in Alabama that showcase outstanding programs and service to students.&nbsp\; This year\, 142 schools or programs were nominated for the prestigious award\, but only 10 were selected.&nbsp\; In addition to Calera High School the other schools were\, Butler County Bright Beginnings Pre-K\, Cullman Middle School\, Engineering Academy of Austin and Decatur High Schools\, Piedmont Elementary School\, Piney Chapel Elementary School\, Priceville Elementary School\, Rockwell Elementary School\, Sequoyah School\, and Winterboro School.&nbsp\; The ten schools/programs will be recognized at a luncheon on April 24 in Montgomery.<br />\n<br />\n&ldquo\;On our application we highlighted the service learning activities of our clubs\, our outreach to different levels of students through the advisory period\, My Future Project\, A+ College Ready program and the accomplishments of our BUV team - including their work with the development of a prosthetic leg\,&rdquo\; said Calera Principal Richard Bishop. &ldquo\;This is a tribute to the hard work of our faculty and their dedication to our students.&rdquo\;<br />\n<br />\n&ldquo\;Through the collaborative efforts of Mr. Richard Bishop\, his leadership team\, faculty and staff\, Calera High School as emerged as one of the innovative leaders in Shelby County\, as well as the state of Alabama\,&rdquo\; said Superintendent Randy Fuller.<br />\n<br />\nRichard Bishop<br />\nPrincipal<br />\nCalera High School<br />\n100 Calera Eagle Drive<br />\nCalera\, AL 35040<br />\n(205) 682-6100
LOCATION:Pelham Civic Complex\, 500 Amphitheater Drive\, Pelham
UID:e.145.3936
SEQUENCE:3
DTSTAMP:20260425T120158Z
URL:https://business.shelbychamber.org/events/details/greater-shelby-chamber-luncheon-featuring-richard-bishop-principal-calera-h-s-03-28-2012-3936
END:VEVENT

END:VCALENDAR
