BEGIN:VCALENDAR
VERSION:2.0
PRODID:-//ChamberMaster//Event Calendar 2.0//EN
METHOD:PUBLISH
X-PUBLISHED-TTL:P3D
REFRESH-INTERVAL:P3D
CALSCALE:GREGORIAN
BEGIN:VEVENT
DTSTART:20130828T160000Z
DTEND:20130828T180000Z
X-MICROSOFT-CDO-ALLDAYEVENT:FALSE
SUMMARY:Greater Shelby Chamber Luncheon ~ Impact of the Arts on Tourism & Economic Dev.
DESCRIPTION:Greater Shelby Chamber Membership Luncheon ~ Impact of the Arts on Tourism and Economic Development\n\n	The Greater Shelby Chamber's August Membership Luncheon - scheduled for August 28 at the Pelham Civic Complex & Ice Arena\, 500 Amphitheater Road\, Pelham - will feature a presentation on the Impact of the Arts on Tourism and Economic Development by Terri Sullivan\, Founder and Executive Director of the Shelby County Arts Council. The "arts" are a significant component of the "quality of life" factors that help make our County attractive for existing and future businesses and residents.\n\n	\n\n	Doors will open at 11:00AM to allow networking opportunities and meeting the businesses from the cities of Chelsea\, Harpersville\, Helena\, and Montevallo participating in the Showcase Feature before the program begins at 11:50AM.\n\n	\n\n	The investment for members is $17 per person and $25 per person for future members.\n\n	\n\n	Reserved corporate tables of eight are available for $175. Please contact the Chamber if your organization is interested in reserving a corporate table of eight at 663-4542.\n\n	\n\n	Reservations are requested by no later than noon on Monday\, August 26.
X-ALT-DESC;FMTTYPE=text/html:<p>\n	<span style="font-family:arial\;"><strong>Greater Shelby Chamber Membership Luncheon ~ Impact of the Arts on Tourism and Economic Development</strong></span></p>\n<p>\n	<span style="font-family:arial\;">The Greater Shelby Chamber&#39\;s August Membership Luncheon - scheduled for August 28 at the Pelham Civic Complex &amp\; Ice Arena\, 500 Amphitheater Road\, Pelham - will feature a presentation on the Impact of the Arts on Tourism and Economic Development by Terri Sullivan\, Founder and Executive Director of the Shelby County Arts Council. The &quot\;arts&quot\; are a significant component of the &quot\;quality of life&quot\; factors that help make our County attractive for existing and future businesses and residents.<br />\n	<br />\n	Doors will open at 11:00AM to allow networking opportunities and meeting the businesses from the cities of Chelsea\, Harpersville\, Helena\, and Montevallo participating in the <a href="http://www.shelbychamber.org/default.asp?ID=45">Showcase Feature</a> before the program begins at 11:50AM.<br />\n	<br />\n	The investment for members is $17 per person and $25 per person for future members.<br />\n	<br />\n	Reserved corporate tables of eight are available for $175. Please contact the Chamber if your organization is interested in reserving a corporate table of eight at 663-4542.<br />\n	<br />\n	Reservations are requested by no later than noon on Monday\, August 26.</span></p>\n
LOCATION:Pelham Civic Complex & Ice Arena 500 Amphitheater Road\, Pelham\, 35124
UID:e.145.4684
SEQUENCE:3
DTSTAMP:20260424T065948Z
URL:https://business.shelbychamber.org/events/details/greater-shelby-chamber-luncheon-impact-of-the-arts-on-tourism-economic-dev-08-28-2013-4684
END:VEVENT

END:VCALENDAR
