BEGIN:VCALENDAR
VERSION:2.0
PRODID:-//ChamberMaster//Event Calendar 2.0//EN
METHOD:PUBLISH
X-PUBLISHED-TTL:P3D
REFRESH-INTERVAL:P3D
CALSCALE:GREGORIAN
BEGIN:VEVENT
DTSTART:20130731T160000Z
DTEND:20130731T180000Z
X-MICROSOFT-CDO-ALLDAYEVENT:FALSE
SUMMARY:Greater Shelby Chamber Luncheon ~ Jeff Rosenthal of Hibbett Sporting Goods
DESCRIPTION:Greater Shelby Chamber Membership Luncheon ~ Existing Business & Industry\n\n	The Chamber's Existing Business & Industry Work Group will host the July Membership Luncheon as we welcome Jeff Rosenthal\, President & CEO\, Hibbett Sporting Goods. Mr. Rosenthal will share with attendees the multi-state search process that Hibbett Sporting Goods went through to find its new location. The final result was choosing Shelby County\, specifically a 59-acre site at Shelby West Corporate Park in Alabaster\, for its new 360\,000 square foot distribution center.\n\n	\n\n	The Showcase Feature will be Existing Business & Industry located in Shelby County and the surrounding areas.  If your organization is interested in being a participant in the Showcase Feature\, contact Brooke Story at the Chamber\, 663-4542. There is a maximum of 15 tables\, first-come\, first-served.\n\n	\n\n	The membership luncheon will be held from 11:00AM until 1:00PM at the Pelham Civic Complex & Ice Arena\, 500 Amphitheater Road\, Pelham.  Investment for members is $17 and future members $25.  Reserved corporate tables of eight are also available for $175.  Please call the Chamber if your organization would like a reserved corporate table.  Reservations are requested by noon on Monday July 29.
X-ALT-DESC;FMTTYPE=text/html:<p>\n	<span style="font-size:12px\;"><span style="font-family: arial\;"><strong>Greater Shelby Chamber Membership Luncheon ~ Existing Business &amp\; Industry</strong></span></span></p>\n<p>\n	<span style="font-size:12px\;"><span style="font-family: arial\;">The Chamber&#39\;s Existing Business &amp\; Industry Work Group will host the July Membership Luncheon as we welcome Jeff Rosenthal\, President &amp\; CEO\, Hibbett Sporting Goods. Mr. Rosenthal will share with attendees the multi-state search process that Hibbett Sporting Goods went through to find its new location. The final result was choosing Shelby County\, specifically a 59-acre site at Shelby West Corporate Park in Alabaster\, for its new 360\,000 square foot distribution center.<br />\n	<br />\n	The <a href="http://www.shelbychamber.org/default.asp?ID=45">Showcase Feature</a> will be Existing Business &amp\; Industry located in Shelby County and the surrounding areas.&nbsp\; If your organization is interested in being a participant in the Showcase Feature\, contact <a href="mailto:brooke@shelbychamber.org?subject=Showcase%20Feature%20Request%20for%20July%2031st%20Membership%20Luncheon">Brooke Story</a> at the Chamber\, 663-4542. There is a maximum of 15 tables\, first-come\, first-served.<br />\n	<br />\n	The membership luncheon will be held from 11:00AM until 1:00PM at the Pelham Civic Complex &amp\; Ice Arena\, 500 Amphitheater Road\, Pelham.&nbsp\; Investment for members is $17 and future members $25.&nbsp\; Reserved corporate tables of eight are also available for $175.&nbsp\; Please call the Chamber if your organization would like a reserved corporate table.&nbsp\; Reservations are requested by noon on Monday July 29.</span></span></p>\n
LOCATION:Pelham Civic Complex & Ice Arena 500 Amphitheater Road\, Pelham\, 35124
UID:e.145.4666
SEQUENCE:3
DTSTAMP:20260424T085823Z
URL:https://business.shelbychamber.org/events/details/greater-shelby-chamber-luncheon-jeff-rosenthal-of-hibbett-sporting-goods-07-31-2013-4666
END:VEVENT

END:VCALENDAR
