BEGIN:VCALENDAR
VERSION:2.0
PRODID:-//ChamberMaster//Event Calendar 2.0//EN
METHOD:PUBLISH
X-PUBLISHED-TTL:P3D
REFRESH-INTERVAL:P3D
CALSCALE:GREGORIAN
BEGIN:VEVENT
DTSTART:20130918T160000Z
DTEND:20130918T180000Z
X-MICROSOFT-CDO-ALLDAYEVENT:FALSE
SUMMARY:Greater Shelby Chamber Luncheon ~ Recognition of National Rehabilitation Week
DESCRIPTION:September Membership Luncheon To Recognize National Rehabilitation Week\n\n\n\nThe Chamber's Health Services Work Group is hosting the September 18 membership luncheon and will recognize National Rehabilitation Week.  The work group has invited a panel of speakers that will address multiple facets of rehabilitation such as out-patient\, skilled nursing facilities\, and home health.  The panel presenters are: Nathan Click with Therapy South\, Mike Brown with Amedisys\, DiAnna Wilson with Shelby Ridge Health & Rehab\, and Jinnie Lacey with HealthSouth Lakeshore Rehab Hospital.\n\n\n\nThe luncheon\, sponsored by Alabama Telco Credit Union\, will be held from 11:00AM until 1:00PM on September 18 at the Pelham Civic Complex and Ice Arena\, 500 Amphitheater Road\, Pelham.  Investment is $17 for members\, $25 for future members.  NOTICE the luncheon is one week earlier this month and reservations are requested by noon\, Monday\, September 16 to be guaranteed a seat.\n\n\n\nThe luncheon will be held at the Pelham Civic Complex & Ice Arena with doors opening at 11:00AM for networking and the Showcase Feature.  The businesses in the healthcare industry will be participating in the Showcase Feature with the program beginning at 11:45AM.  If you are in the healthcare industry and would like to participate\, please contact Keyla Handley at the Chamber.
X-ALT-DESC;FMTTYPE=text/html:<strong>September Membership Luncheon To Recognize National Rehabilitation Week</strong><br />\n<br />\nThe Chamber&#39\;s Health Services Work Group is hosting the September 18 membership luncheon and will recognize National Rehabilitation Week.&nbsp\; The work group has invited a panel of speakers that will address multiple facets of rehabilitation such as out-patient\, skilled nursing facilities\, and home health.&nbsp\; The panel presenters are: Nathan Click with Therapy South\, Mike Brown with Amedisys\, DiAnna Wilson with Shelby Ridge Health &amp\; Rehab\, and Jinnie Lacey with HealthSouth Lakeshore Rehab Hospital.<br />\n<br />\nThe luncheon\, sponsored by <a href="https://www.alatelco.org/">Alabama Telco Credit Union</a>\, will be held from 11:00AM until 1:00PM on September 18 at the Pelham Civic Complex and Ice Arena\, 500 Amphitheater Road\, Pelham.&nbsp\; Investment is $17 for members\, $25 for future members.&nbsp\; <strong>NOTICE the luncheon is one week earlier this month and reservations are requested by noon\, Monday\, September 16 to be guaranteed a seat.</strong><br />\n<br />\nThe luncheon will be held at the Pelham Civic Complex &amp\; Ice Arena with doors opening at 11:00AM for networking and the Showcase Feature.&nbsp\; The businesses in the healthcare industry will be participating in the Showcase Feature with the program beginning at 11:45AM.&nbsp\; If you are in the healthcare industry and would like to participate\, please contact <a href="mailto:keyla@shelbychamber.org?subject=Request%20to%20Participate%20in%20the%20Showcase%20Feature%20-%20Health%20Care%20Industry">Keyla Handley</a> at the Chamber.
LOCATION:Pelham Civic Complex & Ice Arena\, 500 Amphitheater Drive\, Pelham
UID:e.145.4713
SEQUENCE:3
DTSTAMP:20260424T051842Z
URL:https://business.shelbychamber.org/events/details/greater-shelby-chamber-luncheon-recognition-of-national-rehabilitation-week-09-18-2013-4713
END:VEVENT

END:VCALENDAR
