BEGIN:VCALENDAR
VERSION:2.0
PRODID:-//ChamberMaster//Event Calendar 2.0//EN
METHOD:PUBLISH
X-PUBLISHED-TTL:P3D
REFRESH-INTERVAL:P3D
CALSCALE:GREGORIAN
BEGIN:VEVENT
DTSTART:20130522T160000Z
DTEND:20130522T180000Z
X-MICROSOFT-CDO-ALLDAYEVENT:FALSE
SUMMARY:Greater Shelby Chamber Luncheon ~ Saluting Small Business
DESCRIPTION:Greater Shelby Chamber May Membership Luncheon - Saluting Small Business!\n\n\n\nThe Chamber's Small Business Work Group will host the May Membership Luncheon on May 22 as we celebrate the positive economic impact small business has on Shelby County. Nominees for the Chamber's 2013 Small Business Persons of the Year in four categories\, based upon the size of their company\, will be recognized and the recipients in each category will be announced.\n\n\n\nThe luncheon\, sponsored by Regions Bank\, will also feature comments from Gary and Martha Parisher\, owners of Cheeriodicals.  The couple and co-owners will share their personal experience of how their business   a wide-array of gifts for patients dealing with health-related issues -- began and has thrived since its inception.\n\n\n\nThe luncheon will be held from 11:00AM-1:00PM at the Pelham Civic Complex & Ice Arena\, 500 Amphitheatre Road in Pelham.  The Showcase Feature\, held during networking\, for May will celebrate National Small Business Month by inviting any and all small\, mid-size\, and large businesses to participate in the mini-expo. There's only 20 tables for the Showcase Feature so if you are interested in participating\, click here for printable Showcase Feature form in a PDF format\, complete and return to the Chamber via fax\, 663-4524 or E-mail Brooke Story\, Director Business Development & Support.  Also\, print this helpful guide and tip sheet! If you have any questions\, call Brooke at the Chamber\, 663-4542.\n\n\n\nThe investment for members is $17 per person and $25 per person for future members.  Reserved corporate tables of eight are also available for $175.  Please call the Chamber if you would like a reserved corporate table.\n\nReservations are requested by noon on Monday\, May 20.
X-ALT-DESC;FMTTYPE=text/html:<strong>Greater Shelby Chamber May Membership Luncheon - Saluting Small Business!</strong><br />\n<br />\nThe Chamber&rsquo\;s Small Business Work Group will host the May Membership Luncheon on May 22 as we celebrate the positive economic impact small business has on Shelby County. Nominees for the Chamber&rsquo\;s 2013 Small Business Persons of the Year in four categories\, based upon the size of their company\, will be recognized and the recipients in each category will be announced.<br />\n<br />\nThe luncheon\, sponsored by <a href="https://www.regions.com/">Regions Bank</a>\, will also feature comments from Gary and Martha Parisher\, owners of Cheeriodicals.&nbsp\; The couple and co-owners will share their personal experience of how their business &ndash\; a wide-array of gifts for patients dealing with health-related issues -- began and has thrived since its inception.<br />\n<br />\nThe luncheon will be held from 11:00AM-1:00PM at the Pelham Civic Complex &amp\; Ice Arena\, 500 Amphitheatre Road in Pelham.&nbsp\; The <a href="http://shelbychamber.org/default.asp?ID=45">Showcase Feature</a>\, held during networking\, for May will celebrate National Small Business Month by inviting any and all small\, mid-size\, and large businesses to participate in the mini-expo. There&#39\;s only 20 tables for the <a href="http://shelbychamber.org/default.asp?ID=45">Showcase Feature</a> so if you are interested in participating\, <a href="http://cloud.chambermaster.com/userfiles/UserFiles/chambers/145/File/Showcase_City_Feature/2013GSCShowcaseFormforMay-SmallBusinesses.pdf">click here for printable Showcase Feature form in a PDF format</a>\, complete and return to the Chamber via fax\, 663-4524 or E-mail <a href="mailto:brooke@shelbychamber.org?subject=May%20Showcase%20Feature">Brooke Story\,</a> Director Business Development &amp\; Support.&nbsp\; Also\, <a href="http://cloud.chambermaster.com/userfiles/UserFiles/chambers/145/File/Showcase_City_Feature/2013GSCShowcaseGuide1.pdf">print this helpful guide and tip sheet</a>! If you have any questions\, call Brooke at the Chamber\, 663-4542.<br />\n<br />\nThe investment for members is $17 per person and $25 per person for future members.&nbsp\; Reserved corporate tables of eight are also available for $175.&nbsp\; Please call the Chamber if you would like a reserved corporate table.<br />\nReservations are requested by noon on Monday\, May 20.<br />\n
LOCATION:Pelham Civic Complex & Ice Arena 500 Amphitheater Drive\, Pelham
UID:e.145.4607
SEQUENCE:3
DTSTAMP:20260424T134945Z
URL:https://business.shelbychamber.org/events/details/greater-shelby-chamber-luncheon-saluting-small-business-05-22-2013-4607
END:VEVENT

END:VCALENDAR
