BEGIN:VCALENDAR
VERSION:2.0
PRODID:-//ChamberMaster//Event Calendar 2.0//EN
METHOD:PUBLISH
X-PUBLISHED-TTL:P3D
REFRESH-INTERVAL:P3D
CALSCALE:GREGORIAN
BEGIN:VEVENT
DTSTART:20140521T160000Z
DTEND:20140521T180000Z
X-MICROSOFT-CDO-ALLDAYEVENT:FALSE
SUMMARY:Greater Shelby Chamber Luncheon - Shelby County Sheriff Candidates' Forum
DESCRIPTION:May Membership Luncheon to Provide Access to Shelby County Sheriff Candidates\n\n\n\nThe Chamber's Governmental Affairs Work Group will be hosting the May Membership Luncheon featuring the Shelby County Sheriff candidates.\n\n\n\nSheriff Chris Curry is retiring and will not seek reelection.\n\n\n\nFour candidates will vie for this office. Those candidates are Kip Cole\, Larry McDow\, Rick Needham and John Samaniego. Each candidate brings a variety of backgrounds and experience to the race. The primary is June 3.\n\n\n\nThe luncheon will be held from 11:00AM until 1:00PM on May 21 at the Pelham Civic Complex and Ice Arena\, 500 Amphitheater Road\, Pelham.\n\n\n\nInvestment is $20 members\, $30 "Future" members.\n\nRSVP is required by noon on Monday\, May 19.\n\n\n\nRegister by calling the Chamber at 663-4542\, email info@shelbychamber.org or use the Register Online button at top of page.
X-ALT-DESC;FMTTYPE=text/html:<strong>May Membership Luncheon to Provide Access to Shelby County Sheriff Candidates</strong><br />\n<br />\nThe Chamber&rsquo\;s Governmental Affairs Work Group will be hosting the May Membership Luncheon featuring the Shelby County Sheriff candidates.<br />\n<br />\nSheriff Chris Curry is retiring and will not seek reelection.<br />\n<br />\nFour candidates will vie for this office. Those candidates are Kip Cole\, Larry McDow\, Rick Needham and John Samaniego. Each candidate brings a variety of backgrounds and experience to the race. The primary is June 3.<br />\n<br />\nThe luncheon will be held from 11:00AM until 1:00PM on May 21 at the Pelham Civic Complex and Ice Arena\, 500 Amphitheater Road\, Pelham.<br />\n<br />\nInvestment is $20 members\, $30 &ldquo\;Future&rdquo\; members.<br />\nRSVP is required by noon on Monday\, May 19.<br />\n<br />\nRegister by calling the Chamber at 663-4542\, email info@shelbychamber.org or use the Register Online button at top of page.
LOCATION:Pelham Civic Complex and Ice Arena 500 Amphitheater Road\, Pelham AL 35124
UID:e.145.5335
SEQUENCE:3
DTSTAMP:20260423T165454Z
URL:https://business.shelbychamber.org/events/details/greater-shelby-chamber-luncheon-shelby-county-sheriff-candidates-forum-05-21-2014-5335
END:VEVENT

END:VCALENDAR
