BEGIN:VCALENDAR
VERSION:2.0
PRODID:-//ChamberMaster//Event Calendar 2.0//EN
METHOD:PUBLISH
X-PUBLISHED-TTL:P3D
REFRESH-INTERVAL:P3D
CALSCALE:GREGORIAN
BEGIN:VEVENT
DTSTART:20140625T160000Z
DTEND:20140625T180000Z
X-MICROSOFT-CDO-ALLDAYEVENT:FALSE
SUMMARY:Greater Shelby Chamber Luncheon - Small Business Awards
DESCRIPTION:Greater Shelby County Chamber of Commerce Celebrates Small Business Month\n\n\n\nThe Chamber's Small Business Work Group will host events during the month of June\, sponsored by Regions Bank\, as we Celebrate Small Business Month. With more than 70% of our Chamber members classified as small businesses we want to recognize the positive economic impact small business has on Shelby County.\n\n\n\nThe Chamber's Small Business Work Group will host the June 25 Membership Luncheon as we celebrate the positive economic impact small business has on Shelby County. Nominees for the Chamber's 2014 Small Business of the Year in four categories\, based upon the size of their company\, will be recognized and the recipients in each category will be announced.\n\n\n\nThe luncheon\, sponsored by Regions Bank\, will also feature comments from Nick Pihakis from Jim 'N Nick's BAR-B-Q\, sharing a local business success story.\n\n\n\nThe luncheon will be held from 11:00AM-1:00PM at the Pelham Civic Complex & Ice Arena\, 500 Amphitheatre Road in Pelham.  The Showcase Feature\, held during networking\, for June will celebrate National Small Business Month by inviting any and all small\, mid-size\, and large businesses to participate in the mini-expo. There are only 15 tables available for the Showcase Feature so if you are interested in participating\, click here for printable Showcase Feature form in a PDF format\, complete and return to the Chamber via fax\, 663-4524 or E-mail Brooke Story\, Director Business Development & Support.  Also\, print this helpful guide and tip sheet! If you have any questions\, call Brooke at the Chamber 419-3359 or email brooke@shelbychamber.org.\n\n\n\nThe investment for members is $20 per person and $30 per person for "Future" members.\n\n\n\nReservations are requested by noon\, Monday\, June 23.
X-ALT-DESC;FMTTYPE=text/html:<br />\n<strong>Greater Shelby County Chamber of Commerce Celebrates Small Business Month</strong><br />\n<br />\nThe Chamber&rsquo\;s Small Business Work Group will host events during the month of June\, sponsored by Regions Bank\, as we Celebrate Small Business Month. With more than 70% of our Chamber members classified as small businesses we want to recognize the positive economic impact small business has on Shelby County.<br />\n<br />\nThe Chamber&rsquo\;s Small Business Work Group will host the June 25 Membership Luncheon as we celebrate the positive economic impact small business has on Shelby County. Nominees for the Chamber&rsquo\;s 2014 Small Business of the Year in four categories\, based upon the size of their company\, will be recognized and the recipients in each category will be announced.<br />\n<br />\nThe luncheon\, sponsored by <a href="https://www.regions.com/">Regions Bank</a>\, will also feature comments from Nick Pihakis from Jim &lsquo\;N Nick&rsquo\;s BAR-B-Q\, sharing a local business success story.<br />\n<br />\nThe luncheon will be held from 11:00AM-1:00PM at the Pelham Civic Complex &amp\; Ice Arena\, 500 Amphitheatre Road in Pelham.&nbsp\; The <a href="http://cloud.chambermaster.com/userfiles/UserFiles/chambers/145/File/Showcase_City_Feature/2014GSCShowcaseFormforJune-SmallBusiness.pdf">Showcase Feature</a>\, held during networking\, for June will celebrate National Small Business Month by inviting any and all small\, mid-size\, and large businesses to participate in the mini-expo. There are only 15 tables available for the <a href="http://shelbychamber.org/default.asp?ID=45">Showcase Feature</a> so if you are interested in participating\, <a href="http://cloud.chambermaster.com/userfiles/UserFiles/chambers/145/File/Showcase_City_Feature/2014GSCShowcaseFormforJune-SmallBusiness.pdf">click here for printable Showcase Feature form in a PDF format</a>\, complete and return to the Chamber via fax\, 663-4524 or E-mail <a href="mailto:brooke@shelbychamber.org?subject=May%20Showcase%20Feature">Brooke Story\,</a> Director Business Development &amp\; Support.&nbsp\; Also\, <a href="http://cloud.chambermaster.com/userfiles/UserFiles/chambers/145/File/Showcase_City_Feature/GSCShowcaseGuide.pdf">print this helpful guide and tip sheet</a>! If you have any questions\, call Brooke at the Chamber 419-3359 or email <a href="mailto:brooke@shelbychamber.org?subject=Small%20Business%20Showcase%20Feature%20June%202014%20Inquiry">brooke@shelbychamber.org</a>.<br />\n<br />\nThe investment for members is $20 per person and $30 per person for &quot\;Future&quot\; members.<br />\n<br />\nReservations are requested by noon\, Monday\, June 23.
LOCATION:Pelham Civic Complex & Ice Arena 500 Amphitheater Drive\, Pelham
UID:e.145.5509
SEQUENCE:3
DTSTAMP:20260423T151610Z
URL:https://business.shelbychamber.org/events/details/greater-shelby-chamber-luncheon-small-business-awards-06-25-2014-5509
END:VEVENT

END:VCALENDAR
