BEGIN:VCALENDAR
VERSION:2.0
PRODID:-//ChamberMaster//Event Calendar 2.0//EN
METHOD:PUBLISH
X-PUBLISHED-TTL:P3D
REFRESH-INTERVAL:P3D
CALSCALE:GREGORIAN
BEGIN:VEVENT
DTSTART:20130626T160000Z
DTEND:20130626T180000Z
X-MICROSOFT-CDO-ALLDAYEVENT:FALSE
SUMMARY:Greater Shelby Chamber Luncheon ~ Workforce Development
DESCRIPTION:Greater Shelby Chamber Membership Luncheon ~ Workforce Development\n\n	Join us as the Chamber welcomes Dr. Philip Cleveland\, State Director of Career and Technical Education and Workforce Development\, Alabama State Department of Education. Dr. Cleveland started this position in June 2012 which includes an expanded role in working with the Work Force and Economic Development Councils.\n\n	Dr. Cleveland's past experiences include serving as a teacher\, Career Technical Education Director\, Principal\, and interim community college President.  Dr. Cleveland will share current trends in education.\n\n	The membership luncheon\, sponsored by Legacy Community Federal Credit Union\, will be held from 11:00AM until 1:00AM at the Pelham Civic Complex & Ice Arena\, 500 Amphitheater Road\, Pelham.  Reservations are requested by noon\, Monday\, June 24.\n\n	\n\n	The Showcase Features organizations in the education field.  If you are interested in being a participant in the Showcase Feature\, contact Keyla Handley\, Community & Workforce Development Manager at 663-4542.\n\n	The investment for members is $17 per person and $25 per person for future members.  Reserved corporate tables of eight are also available for $175.  Please call the Chamber if you would like a reserved corporate table.\n\n	Reservations are requested by noon on Monday\, May 20.
X-ALT-DESC;FMTTYPE=text/html:<p>\n	<strong>Greater Shelby Chamber Membership Luncheon ~ Workforce Development</strong></p>\n<p>\n	Join us as the Chamber welcomes Dr. Philip Cleveland\, State Director of Career and Technical Education and Workforce Development\, Alabama State Department of Education. Dr. Cleveland started this position in June 2012 which includes an expanded role in working with the Work Force and Economic Development Councils.</p>\n<p>\n	Dr. Cleveland&rsquo\;s past experiences include serving as a teacher\, Career Technical Education Director\, Principal\, and interim community college President.&nbsp\; Dr. Cleveland will share current trends in education.</p>\n<p>\n	The membership luncheon\, sponsored by <a href="https://www.legacycreditunion.com/">Legacy Community Federal Credit Union</a>\, will be held from 11:00AM until 1:00AM at the Pelham Civic Complex &amp\; Ice Arena\, 500 Amphitheater Road\, Pelham.&nbsp\; Reservations are requested by noon\, Monday\, June 24.<br />\n	<br />\n	The Showcase Features organizations in the education field.&nbsp\; If you are interested in being a participant in the Showcase Feature\, contact <a href="mailto:keyla@shelbychamber.org?subject=June%20Luncheon%20Showcase%20Feature%20Interest%20in%20Participating">Keyla </a><a href="mailto:keyla@shelbychamber.org?subject=June%20Luncheon%20Showcase%20Feature%20Interest%20in%20Participating">Handle</a>y\, Community &amp\; Workforce Development Manager at 663-4542.</p>\n<p>\n	The investment for members is $17 per person and $25 per person for future members.&nbsp\; Reserved corporate tables of eight are also available for $175.&nbsp\; Please call the Chamber if you would like a reserved corporate table.<br />\n	Reservations are requested by noon on Monday\, May 20.<br />\n	&nbsp\;</p>\n
LOCATION:Pelham Civic Complex & Ice Arena 500 Amphitheater Drive\, Pelham
UID:e.145.4619
SEQUENCE:3
DTSTAMP:20260424T102432Z
URL:https://business.shelbychamber.org/events/details/greater-shelby-chamber-luncheon-workforce-development-06-26-2013-4619
END:VEVENT

END:VCALENDAR
