BEGIN:VCALENDAR
VERSION:2.0
PRODID:-//ChamberMaster//Event Calendar 2.0//EN
METHOD:PUBLISH
X-PUBLISHED-TTL:P3D
REFRESH-INTERVAL:P3D
CALSCALE:GREGORIAN
BEGIN:VEVENT
DTSTART:20131029T163000Z
DTEND:20131029T180000Z
X-MICROSOFT-CDO-ALLDAYEVENT:FALSE
SUMMARY:Greater Shelby Chamber ~ Making Sense of Social Media Seminar
DESCRIPTION:Greater Shelby Chamber ""Making Sense of Social Media" Seminar\n\n\n\nMake plans to attend the Greater Shelby Chamber's "Making Sense of Social Media" seminar co-sponsored by Charter Business and Johnny Ray's on October 29 from 11:30AM until 1:00PM at the Chamber office\, 1301 County Services Drive\, Pelham.\n\n\n\nThe seminar will feature a panel discussion led by Chris Davis\; Fi-Plan Partners\, Donna Gilliland\; MOSTraining\, and Glyna Humm\; Fusion Marketing.\n\n\n\nJoin these professionals as they tackle ways to market and promote your business through Facebook\, Twitter\, LinkedIn\, and more! Learn how to make the most of your social media circle of influence.\n\n\n\nInvestment is $10 for Greater Shelby Chamber members\, $20 for Future members and includes lunch.  RSVP required by October 25.\n\n\n\nUse the Register online button above or call the Chamber at 663-4542.
X-ALT-DESC;FMTTYPE=text/html:<strong>Greater Shelby Chamber &quot\;&ldquo\;Making Sense of Social Media&rdquo\; Seminar</strong><br />\n<br />\nMake plans to attend the Greater Shelby Chamber&rsquo\;s &ldquo\;Making Sense of Social Media&rdquo\; seminar co-sponsored by Charter Business and Johnny Ray&rsquo\;s on October 29 from 11:30AM until 1:00PM at the Chamber office\, 1301 County Services Drive\, Pelham.<br />\n<br />\nThe seminar will feature a panel discussion led by Chris Davis\; <a href="http://fiplanpartners.com/">Fi-Plan Partners</a>\, Donna Gilliland\; <a href="http://www.MOSTraining.com">MOSTraining</a>\, and Glyna Humm\; <a href="http://fusiononemarketing.com/">Fusion Marketing</a>.<br />\n<br />\nJoin these professionals as they tackle ways to market and promote your business through Facebook\, Twitter\, LinkedIn\, and more! Learn how to make the most of your social media circle of influence.<br />\n<br />\nInvestment is $10 for Greater Shelby Chamber members\, $20 for Future members and includes lunch.&nbsp\; RSVP required by October 25.<br />\n<br />\nUse the Register online button above or call the Chamber at 663-4542.
LOCATION:Greater Shelby Chamber 1301 County Services Drive\, Pelham (205) 663-4542
UID:e.145.4731
SEQUENCE:3
DTSTAMP:20260424T051705Z
URL:https://business.shelbychamber.org/events/details/greater-shelby-chamber-making-sense-of-social-media-seminar-10-29-2013-4731
END:VEVENT

END:VCALENDAR
