BEGIN:VCALENDAR
VERSION:2.0
PRODID:-//ChamberMaster//Event Calendar 2.0//EN
METHOD:PUBLISH
X-PUBLISHED-TTL:P3D
REFRESH-INTERVAL:P3D
CALSCALE:GREGORIAN
BEGIN:VEVENT
DTSTART:20110525T160000Z
DTEND:20110525T180000Z
X-MICROSOFT-CDO-ALLDAYEVENT:FALSE
SUMMARY:Greater Shelby Chamber ~ Membership Luncheon Featuring Brian Hilson\, BBA
DESCRIPTION:Join us for the May membership luncheon as we welcome keynote speaker\, Brian Hilson\, President and CEO of the birminghambusinessalliance (BBA).  About BBA:  Public & Private Leadership:  The BBA expects and supports capable leaders who govern and manage responsibly thereby earning our residents' trust. In addition\, we will aggressively develop the next generation of leaders who are capable\, visionary\, and ethical.\n\n\n\n* Brian Hilson recently traveled to New York with a group of six economic development heads from different cities. He left with a mission to boost Birmingham's name recognition in the economic development world.\n\n\n\nOn the trip\, Hilson\, the new president of the Birmingham Business Alliance\, and the other economic development officials met with a dozen site selection consultants with major national clients.\n\n\n\nWhen he asked each consultant about Birmingham\, he found the group didn't know much about the city.\n\n\n\n"Birmingham was not on their list\," he said on Monday\, as he addressed a state chapter meeting of NAIOP\, a commercial real estate development association. "We are a lagger compared to other lists. We haven't pushed the envelope enough\, but we can do that pretty easily."\n\n\n\nTo correct that\, Hilson said he's preparing to hire a marketing firm out of New York   the same one he worked with previously as the president of the Chamber of Commerce of Huntsville/Madison County   to launch efforts to package Birmingham and its attributes and get the city in front of the right people around the country.\n\n\n\n"We intend to win more (economic development projects) than our share\," he said.\n\n\n\n* Story courtesy of Lauren B. Cooper\, Reporter with the Birmingham Business Journal.\n\n\n\n\n\nThe Showcase Feature will be the cities of Alabaster and Columbiana.\n\n\n\nInvestment is $17 for Greater Shelby Chamber members and $20 for non-members.\n\n\n\nAvoid the long lines and utilize Express Check-in at the luncheon by using online registration.\n\n\n\nRegister online by clicking above and using your member login and password to receive the member rate!  If you need your member login and/or password contact the Chamber.\n\n\n\n*NOTICE:  If you make a reservation for the luncheon and are unable to attend you must cancel at least TWO days prior to the luncheon to avoid being charged.
X-ALT-DESC;FMTTYPE=text/html:Join us for the May membership luncheon as we welcome keynote speaker\, Brian Hilson\, President and CEO of the <a href="http://www.birminghambusinessalliance.com/"><strong><span style="color: rgb(105\, 105\, 105)\;">birmingham</span><span style="color: rgb(102\, 204\, 51)\;">business</span><span style="color: rgb(105\, 105\, 105)\;">alliance</span></strong></a> (<a href="http://www.birminghambusinessalliance.com/">BBA</a>).&nbsp\; About <a href="http://www.birminghambusinessalliance.com/">BBA</a>:&nbsp\; Public &amp\; Private Leadership:&nbsp\; The <a href="http://www.birminghambusinessalliance.com/">BBA</a> expects and supports capable leaders who govern and manage responsibly thereby earning our residents&rsquo\; trust. In addition\, we will aggressively develop the next generation of leaders who are capable\, visionary\, and ethical.<br />\n<br />\n* Brian Hilson recently traveled to New York with a group of six economic development heads from different cities. He left with a mission to boost Birmingham&#39\;s name recognition in the economic development world.<br />\n<br />\nOn the trip\, Hilson\, the new president of the Birmingham Business Alliance\, and the other economic development officials met with a dozen site selection consultants with major national clients.<br />\n<br />\nWhen he asked each consultant about Birmingham\, he found the group didn&rsquo\;t know much about the city.<br />\n<br />\n&ldquo\;Birmingham was not on their list\,&rdquo\; he said on Monday\, as he addressed a state chapter meeting of NAIOP\, a commercial real estate development association. &ldquo\;We are a lagger compared to other lists. We haven&rsquo\;t pushed the envelope enough\, but we can do that pretty easily.&rdquo\;<br />\n<br />\nTo correct that\, Hilson said he&rsquo\;s preparing to hire a marketing firm out of New York &ndash\; the same one he worked with previously as the president of the Chamber of Commerce of Huntsville/Madison County &ndash\; to launch efforts to package Birmingham and its attributes and get the city in front of the right people around the country.<br />\n<br />\n&ldquo\;We intend to win more (economic development projects) than our share\,&rdquo\; he said.<br />\n<br />\n* Story courtesy of Lauren B. Cooper\, Reporter with the <em>Birmingham Business Journal</em>.<br />\n<br />\n<br />\nThe <a href="http://www.shelbychamber.org/default.asp?ID=45">Showcase Feature</a> will be the cities of Alabaster and Columbiana.<br />\n<br />\nInvestment is $17 for Greater Shelby Chamber members and $20 for non-members.<br />\n<br />\n<strong>Avoid the long lines and utilize Express Check-in at the luncheon by using online registration.</strong><br />\n<br />\nRegister online by clicking above and using your member login and password to receive the member rate!&nbsp\; If you need your member login and/or password contact the Chamber.<br />\n<br />\n*<u><strong>NOTICE</strong></u><strong>:&nbsp\; If you make a reservation for the luncheon and are unable to attend you must cancel at least TWO days prior to the luncheon to avoid being charged.</strong>
LOCATION:Pelham Civic Complex 500 Amphitheater Road\, Pelham AL 35124 (205) 620-6448
UID:e.145.3387
SEQUENCE:3
DTSTAMP:20260426T022037Z
URL:https://business.shelbychamber.org/events/details/greater-shelby-chamber-membership-luncheon-featuring-brian-hilson-bba-05-25-2011-3387
END:VEVENT

END:VCALENDAR
