BEGIN:VCALENDAR
VERSION:2.0
PRODID:-//ChamberMaster//Event Calendar 2.0//EN
METHOD:PUBLISH
X-PUBLISHED-TTL:P3D
REFRESH-INTERVAL:P3D
CALSCALE:GREGORIAN
BEGIN:VEVENT
DTSTART:20120926T160000Z
DTEND:20120926T180000Z
X-MICROSOFT-CDO-ALLDAYEVENT:FALSE
SUMMARY:Greater Shelby Chamber Membership Luncheon ~ How Big is Your Reach?
DESCRIPTION:Join us for the September Membership Luncheon as keynote speaker\, Lisa Baker\, CEO of MyMarketStreet.com. presents "How Big is Your Reach?"  She will discuss the various tools available to market your business to help you learn how to effectively reach your target market.  Lisa will discuss the following areas of marketing your business:\n\n\n\n* Which online tools are you using and how are they helping accomplish your goals?\n\n* What is the difference in "branding\," "marketing\," and "advertising?"\n\n* Online versus offline advertising\, which is better?\n\n\n\nJoin us for an informative presentation by keynote speaker\, Lisa Baker of MyMarketStreet.com\, to discuss these and other topics surrounding effective ways to reach your target customers.\n\n\n\nThe luncheon will be held the Pelham Civic Complex\, 500 Amphitheater Drive\, Pelham on September 26th from 11 am until 1 pm.  RSVP is required by Monday\, September 24th.  Investment for Greater Shelby Chamber members is $17 and future members is $25.\n\n\n\nThe Showcase City Feature will be the businesses from the cities of Helena\, Calera\, and Harpersville from 11 am until just before noon during networking. Seated program begins at noon and concludes at 1 pm.
X-ALT-DESC;FMTTYPE=text/html:Join us for the September Membership Luncheon as keynote speaker\, Lisa Baker\, CEO of MyMarketStreet.com. presents &quot\;How Big is Your Reach?&quot\;&nbsp\; She will discuss the various tools available to market your business to help you learn how to effectively reach your target market.&nbsp\; Lisa will discuss the following areas of marketing your business:<br />\n<br />\n* Which online tools are you using and how are they helping accomplish your goals?<br />\n* What is the difference in &ldquo\;branding\,&rdquo\; &ldquo\;marketing\,&rdquo\; and &ldquo\;advertising?&rdquo\;<br />\n* Online versus offline advertising\, which is better?<br />\n<br />\nJoin us for an informative presentation by keynote speaker\, Lisa Baker of MyMarketStreet.com\, to discuss these and other topics surrounding effective ways to reach your target customers.<br />\n<br />\nThe luncheon will be held the Pelham Civic Complex\, 500 Amphitheater Drive\, Pelham on September 26th from 11 am until 1 pm.&nbsp\; RSVP is required by Monday\, September 24th.&nbsp\; Investment for Greater Shelby Chamber members is $17 and future members is $25.<br />\n<br />\nThe Showcase City Feature will be the businesses from the cities of Helena\, Calera\, and Harpersville from 11 am until just before noon during networking. Seated program begins at noon and concludes at 1 pm.
LOCATION:Pelham Civic Complex 500 Amphitheater Road Pelham AL 35124 (205) 620-6448
UID:e.145.4365
SEQUENCE:3
DTSTAMP:20260425T024853Z
URL:https://business.shelbychamber.org/events/details/greater-shelby-chamber-membership-luncheon-how-big-is-your-reach-09-26-2012-4365
END:VEVENT

END:VCALENDAR
