BEGIN:VCALENDAR
VERSION:2.0
PRODID:-//ChamberMaster//Event Calendar 2.0//EN
METHOD:PUBLISH
X-PUBLISHED-TTL:P3D
REFRESH-INTERVAL:P3D
CALSCALE:GREGORIAN
BEGIN:VEVENT
DTSTART:20130212T173000Z
DTEND:20130212T190000Z
X-MICROSOFT-CDO-ALLDAYEVENT:FALSE
SUMMARY:Greater Shelby Chamber ~ Membership Reception
DESCRIPTION:How Can I Maximize the Return on My Chamber Investment?\n\n\n\nWe encourage you to take some time on Tuesday\, February 12th to learn how to maximize your membership investment by attending the Chamber's Membership Reception. Whether your firm is a new member or\, a long-time Chamber member\, you'll want to make plans to join us beginning at 11:30AM so you may take full advantage of your membership investment.\n\n\n\nA complimentary lunch will be available for all attendees\, so reservations are requested by Thursday\, February 7th. The Membership Reception will be held at the Greater Shelby County Chamber\, 1301 County Services Drive\, Pelham on Tuesday\, February 12th from 11:30 am until 1 pm.  There is no cost to attend but please RSVP to assist us in preparation for the event.  You may RSVP online at www.shelbychamber.org\, call the Chamber at 663-4542 or call the RSVP Line at 663-8923.
X-ALT-DESC;FMTTYPE=text/html:<strong>How Can I Maximize the Return on My Chamber Investment?</strong><br />\n<br />\nWe encourage you to take some time on Tuesday\, February 12th to learn how to maximize your membership investment by attending the Chamber&rsquo\;s Membership Reception. Whether your firm is a new member or\, a long-time Chamber member\, you&rsquo\;ll want to make plans to join us beginning at 11:30AM so you may take full advantage of your membership investment.<br />\n<br />\nA complimentary lunch will be available for all attendees\, so reservations are requested by Thursday\, February 7th. The Membership Reception will be held at the Greater Shelby County Chamber\, 1301 County Services Drive\, Pelham on Tuesday\, February 12th from 11:30 am until 1 pm.&nbsp\; There is no cost to attend but please RSVP to assist us in preparation for the event.&nbsp\; You may RSVP online at <a href="http://www.shelbychamber.org">www.shelbychamber.org</a>\, call the Chamber at 663-4542 or call the RSVP Line at 663-8923.
LOCATION:Greater Shelby Chamber\, 1301 County Services Drive\, Pelham\, AL 35124
UID:e.145.4477
SEQUENCE:3
DTSTAMP:20260424T171542Z
URL:https://business.shelbychamber.org/events/details/greater-shelby-chamber-membership-reception-02-12-2013-4477
END:VEVENT

END:VCALENDAR
