BEGIN:VCALENDAR
VERSION:2.0
PRODID:-//ChamberMaster//Event Calendar 2.0//EN
METHOD:PUBLISH
X-PUBLISHED-TTL:P3D
REFRESH-INTERVAL:P3D
CALSCALE:GREGORIAN
BEGIN:VEVENT
DTSTART:20140227T173000Z
DTEND:20140227T190000Z
X-MICROSOFT-CDO-ALLDAYEVENT:FALSE
SUMMARY:Greater Shelby Chamber ~ Membership Reception
DESCRIPTION:Find Out How to Put the Chamber to Work for Your Business\n\n\n\nLearn how to maximize your membership investment in just one hour by joining us for our first Membership Reception of 2014 on Thursday\, February 27 at the Chamber.\n\n\n\nWhether you are a new member -- or a long-time Chamber member with some new employees -- we encourage you to make plans to join us so you can be sure you're taking full advantage of your membership investment. The Membership Reception is sponsored by Rx Catering and a complimentary lunch and beverages will be provided. To make reservations\, contact the Chamber via email at info@shelbychamber.org\, by phone at 663-4542 or use online registration button above.\n\n\n\nThank you to Rx Catering for sponsoring the complimentary lunch for all attendees.  There is no cost to attend but please RSVP by February 25 to assist us in preparation for the event.
X-ALT-DESC;FMTTYPE=text/html:<strong>Find Out How to Put the Chamber to Work for Your Business</strong><br />\n<br />\nLearn how to maximize your membership investment in just one hour by joining us for our first Membership Reception of 2014 on Thursday\, February 27 at the Chamber.<br />\n<br />\nWhether you are a new member -- or a long-time Chamber member with some new employees -- we encourage you to make plans to join us so you can be sure you&rsquo\;re taking full advantage of your membership investment. The Membership Reception is sponsored by Rx Catering and a complimentary lunch and beverages will be provided. To make reservations\, contact the Chamber via email at info@shelbychamber.org\, by phone at 663-4542 or use online registration button above.<br />\n<br />\nThank you to <a href="http://rxcatering.net/">Rx Catering</a> for sponsoring the complimentary lunch for all attendees.&nbsp\; There is no cost to attend but please RSVP by February 25 to assist us in preparation for the event.
LOCATION:Greater Shelby Chamber\, 1301 County Services Drive\, Pelham\, AL 35124
UID:e.145.5007
SEQUENCE:3
DTSTAMP:20260423T225515Z
URL:https://business.shelbychamber.org/events/details/greater-shelby-chamber-membership-reception-02-27-2014-5007
END:VEVENT

END:VCALENDAR
