BEGIN:VCALENDAR
VERSION:2.0
PRODID:-//ChamberMaster//Event Calendar 2.0//EN
METHOD:PUBLISH
X-PUBLISHED-TTL:P3D
REFRESH-INTERVAL:P3D
CALSCALE:GREGORIAN
BEGIN:VEVENT
DTSTART:20130514T163000Z
DTEND:20130514T180000Z
X-MICROSOFT-CDO-ALLDAYEVENT:FALSE
SUMMARY:Greater Shelby Chamber ~ Membership Reception
DESCRIPTION:How Can I Maximize the Return on My Chamber Investment?\n\n\n\nWe encourage you to take some time on Tuesday\, May 14th to learn how to maximize your membership investment by attending the Chamber's Membership Reception. Whether your firm is a new member or\, a long-time Chamber member\, you'll want to make plans to join us beginning at 11:30AM so you may take full advantage of your membership investment.\n\n\n\nA complimentary lunch will be available for all attendees\, so reservations are requested by noon\, Thursday\, May 9th to assist us in preparation for the event.\n\n\n\nYou may RSVP online by clicking the Register Online button above\, call the Chamber at 663-4542 or leave your reservation request the RSVP Line at 663-8923.  If you use the RSVP Line please leave your name\, number\, the event you are registering for\, and the names of all representatives planning to attend.
X-ALT-DESC;FMTTYPE=text/html:<strong>How Can I Maximize the Return on My Chamber Investment?</strong><br />\n<br />\nWe encourage you to take some time on Tuesday\, May 14th to learn how to maximize your membership investment by attending the Chamber&rsquo\;s <a href="http://www.shelbychamber.org/default.asp?ID=37">Membership Reception</a>. Whether your firm is a new member or\, a long-time Chamber member\, you&rsquo\;ll want to make plans to join us beginning at 11:30AM so you may take full advantage of your membership investment.<br />\n<br />\nA complimentary lunch will be available for all attendees\, so reservations are requested by noon\, Thursday\, May 9th to assist us in preparation for the event.<br />\n<br />\nYou may RSVP online by clicking the Register Online button above\, call the Chamber at 663-4542 or leave your reservation request the RSVP Line at 663-8923.&nbsp\; If you use the RSVP Line please leave your name\, number\, the event you are registering for\, and the names of all representatives planning to attend.
LOCATION:Greater Shelby Chamber\, 1301 County Services Drive\, Pelham\, AL 35124
UID:e.145.4590
SEQUENCE:3
DTSTAMP:20260424T120121Z
URL:https://business.shelbychamber.org/events/details/greater-shelby-chamber-membership-reception-05-14-2013-4590
END:VEVENT

END:VCALENDAR
