BEGIN:VCALENDAR
VERSION:2.0
PRODID:-//ChamberMaster//Event Calendar 2.0//EN
METHOD:PUBLISH
X-PUBLISHED-TTL:P3D
REFRESH-INTERVAL:P3D
CALSCALE:GREGORIAN
BEGIN:VEVENT
DTSTART:20150723T163000Z
DTEND:20150723T180000Z
X-MICROSOFT-CDO-ALLDAYEVENT:FALSE
SUMMARY:Greater Shelby Chamber - Membership Reception
DESCRIPTION:Make Sure Your Organization Is Getting the Most Out of Its Chamber Membership\n\n\n\nLearn how to maximize your membership investment in just one hour by joining us for our next Quarterly Membership Reception on Thursday\, July 23 at the Chamber.\n\n\n\nWhether you are a new member -- or a long-time Chamber member with some new employees -- we encourage you to make plans to join us so you can be sure you're taking full advantage of your membership investment.\n\n\n\nSponsored by Rx Catering a complimentary luncheon and beverages will be provided. Reservations are requested\, so please contact the Chamber via e-mail\, phone at 663-4542 or use the Register Online button above.
X-ALT-DESC;FMTTYPE=text/html:<div style="text-align: center\;"><br />\n<strong>Make Sure Your Organization Is Getting the Most Out of Its Chamber Membership</strong></div>\n\n<div><br />\nLearn how to maximize your membership investment in just one hour by joining us for our next Quarterly Membership Reception on Thursday\, July 23 at the Chamber.<br />\n<br />\nWhether you are a new member -- or a long-time Chamber member with some new employees -- we encourage you to make plans to join us so you can be sure you&rsquo\;re taking full advantage of your membership investment.<br />\n<br />\nSponsored by Rx Catering a complimentary luncheon and beverages will be provided. Reservations are requested\, so please contact the Chamber via e-mail\, phone at 663-4542 or use the Register Online button above.</div>\n
LOCATION:Greater Shelby Chamber 1301 County Services Drive Pelham\, AL 35124
UID:e.145.7716
SEQUENCE:3
DTSTAMP:20260422T195741Z
URL:https://business.shelbychamber.org/events/details/greater-shelby-chamber-membership-reception-07-23-2015-7716
END:VEVENT

END:VCALENDAR
