BEGIN:VCALENDAR
VERSION:2.0
PRODID:-//ChamberMaster//Event Calendar 2.0//EN
METHOD:PUBLISH
X-PUBLISHED-TTL:P3D
REFRESH-INTERVAL:P3D
CALSCALE:GREGORIAN
BEGIN:VEVENT
DTSTART:20130827T163000Z
DTEND:20130827T180000Z
X-MICROSOFT-CDO-ALLDAYEVENT:FALSE
SUMMARY:Greater Shelby Chamber ~ Membership Reception
DESCRIPTION:How Can I Maximize the Return on My Chamber Investment?\n\n\n\nWe encourage you to take some time on Tuesday\, August 27th to learn how to maximize your membership investment by attending the Chamber's Membership Reception. Whether your firm is a new member or\, a long-time Chamber member\, you'll want to make plans to join us beginning at 11:30AM so you may take full advantage of your membership investment.\n\n\n\nThank you to Rx Catering for sponsoring the complimentary lunch for all attendees.  here is no cost to attend but please RSVP by August 22 to assist us in preparation for the event.
X-ALT-DESC;FMTTYPE=text/html:<strong>How Can I Maximize the Return on My Chamber Investment?</strong><br />\n<br />\nWe encourage you to take some time on Tuesday\,&nbsp\;August 27th&nbsp\;to learn how to maximize your membership investment by attending the Chamber&rsquo\;s Membership Reception. Whether your firm is a new member or\, a long-time Chamber member\, you&rsquo\;ll want to make plans to join us beginning at 11:30AM so you may take full advantage of your membership investment.<br />\n<br />\nThank you to <a href="http://rxcatering.net/">Rx Catering</a> for sponsoring the complimentary lunch for all attendees.&nbsp\; here is no cost to attend but please RSVP by August 22 to assist us in preparation for the event.
LOCATION:Greater Shelby Chamber\, 1301 County Services Drive\, Pelham\, AL 35124
UID:e.145.4674
SEQUENCE:3
DTSTAMP:20260424T065341Z
URL:https://business.shelbychamber.org/events/details/greater-shelby-chamber-membership-reception-08-27-2013-4674
END:VEVENT

END:VCALENDAR
