BEGIN:VCALENDAR
VERSION:2.0
PRODID:-//ChamberMaster//Event Calendar 2.0//EN
METHOD:PUBLISH
X-PUBLISHED-TTL:P3D
REFRESH-INTERVAL:P3D
CALSCALE:GREGORIAN
BEGIN:VEVENT
DTSTART:20141113T173000Z
DTEND:20141113T190000Z
X-MICROSOFT-CDO-ALLDAYEVENT:FALSE
SUMMARY:Greater Shelby Chamber - Membership Reception
DESCRIPTION:Enjoy a FREE Lunch on November 13 &\n\nMake Sure Your Taking Full Advantage of\n\nAll Your Membership Benefits\n\n\nYes\, there truly is such a thing as a "Free Lunch"   especially on November 13!  We encourage you to join your fellow members and Chamber staff for some business networking and to learn how to maximize your membership investment. Whether your firm is a new member or\, a long-time Chamber member\, you'll want to make plans to join us from 11:30AM-1:00PM to make sure you and your colleagues are taking full advantage of your membership investment.\n\n\n\nA complimentary lunch provided by the sponsor   Rx Catering -- will be available for all attendees.  Reservations are requested by November 11   and space is limited -- so please contact the Chamber by phone at 663-4542 or use the Register Now button to make your reservations online no later than November 10 to reserve your place.
X-ALT-DESC;FMTTYPE=text/html:<div style="text-align: center\;"><strong>Enjoy a FREE Lunch on November 13 &amp\;</strong></div>\n\n<div style="text-align: center\;"><strong>Make Sure Your Taking Full Advantage of</strong></div>\n\n<div style="text-align: center\;"><u><strong>All Your Membership Benefits</strong></u></div>\n<br />\nYes\, there truly is such a thing as a &ldquo\;Free Lunch&rdquo\; &ndash\; especially on November 13!&nbsp\; We encourage you to join your fellow members and Chamber staff for some business networking and to learn how to maximize your membership investment. Whether your firm is a new member or\, a long-time Chamber member\, you&rsquo\;ll want to make plans to join us from 11:30AM-1:00PM to make sure you and your colleagues are taking full advantage of your membership investment.<br />\n<br />\nA complimentary lunch provided by the sponsor &ndash\; Rx Catering -- will be available for all attendees.&nbsp\; Reservations are requested by November 11 &ndash\; and space is limited -- so please contact the Chamber by phone at 663-4542 or use the Register Now button to make your reservations online no later than November 10 to reserve your place.
LOCATION:Greater Shelby Chamber\, 1301 County Services Drive\, Pelham\, AL 35124
UID:e.145.6466
SEQUENCE:3
DTSTAMP:20260423T074940Z
URL:https://business.shelbychamber.org/events/details/greater-shelby-chamber-membership-reception-11-13-2014-6466
END:VEVENT

END:VCALENDAR
