BEGIN:VCALENDAR
VERSION:2.0
PRODID:-//ChamberMaster//Event Calendar 2.0//EN
METHOD:PUBLISH
X-PUBLISHED-TTL:P3D
REFRESH-INTERVAL:P3D
CALSCALE:GREGORIAN
BEGIN:VEVENT
DTSTART:20151119T173000Z
DTEND:20151119T190000Z
X-MICROSOFT-CDO-ALLDAYEVENT:FALSE
SUMMARY:Greater Shelby Chamber - Membership Reception
DESCRIPTION:Enjoy a FREE Lunch on November 19 & Make Sure Your Taking Full Advantage of All Your Membership Benefits\n\n\n\nYes\, there truly is such a thing as a "Free Lunch"   especially on November 19!  We encourage you to join your fellow members and Chamber staff for some business networking and to learn how to maximize your membership investment. Whether your firm is a new member or\, a long-time Chamber member\, you'll want to make plans to join us from 11:30AM-1:00PM to make sure you and your colleagues are taking full advantage of your membership investment.\n\n\n\nA complimentary lunch provided by the sponsor   Rx Catering -- will be available for all attendees.  Reservations are requested   and space is limited -- so please contact the Chamber via e-mail at info@shelbychamber.org or by phone at 663-4542 or use online registration above no later than November 17 to reserve your place.
X-ALT-DESC;FMTTYPE=text/html:<div style="text-align: center\;"><br />\n<strong>Enjoy a FREE Lunch on November 19 &amp\; Make Sure Your Taking Full Advantage of All Your Membership Benefits</strong></div>\n\n<div><br />\nYes\, there truly is such a thing as a &ldquo\;Free Lunch&rdquo\; &ndash\; especially on November 19!&nbsp\; We encourage you to join your fellow members and Chamber staff for some business networking and to learn how to maximize your membership investment. Whether your firm is a new member or\, a long-time Chamber member\, you&rsquo\;ll want to make plans to join us from 11:30AM-1:00PM to make sure you and your colleagues are taking full advantage of your membership investment.<br />\n<br />\nA complimentary lunch provided by the sponsor &ndash\; Rx Catering -- will be available for all attendees.&nbsp\; Reservations are requested &ndash\; and space is limited -- so please contact the Chamber via e-mail at info@shelbychamber.org or by phone at 663-4542 or use online registration above no later than November 17 to reserve your place.</div>\n
LOCATION:Greater Shelby Chamber 1301 County Services Drive Pelham\, AL 35124 663-4542
UID:e.145.7931
SEQUENCE:3
DTSTAMP:20260422T140455Z
URL:https://business.shelbychamber.org/events/details/greater-shelby-chamber-membership-reception-11-19-2015-7931
END:VEVENT

END:VCALENDAR
