BEGIN:VCALENDAR
VERSION:2.0
PRODID:-//ChamberMaster//Event Calendar 2.0//EN
METHOD:PUBLISH
X-PUBLISHED-TTL:P3D
REFRESH-INTERVAL:P3D
CALSCALE:GREGORIAN
BEGIN:VEVENT
DTSTART:20140319T160000Z
DTEND:20140320T000000Z
X-MICROSOFT-CDO-ALLDAYEVENT:FALSE
SUMMARY:Greater Shelby Chamber ~ Montgomery Drive In
DESCRIPTION:Greater Shelby Chamber's 2014 Montgomery Drive-In\n\n\n\nThe Chamber's 2014 Montgomery Drive-In\, sponsored by AT&T - Alabama\, will be held March 19.\n\n\n\nThe Drive-In event is a product of the Chamber's ShelbyOne initiative and will include: transportation to and from Montgomery\, a luncheon at the Capitol City Club\, presentations from various Alabama state departmental heads and agency directors and a legislative reception in conjunction with the Business Council of Alabama.\n\n\n\nThe cost for participants is $40 for Chamber members and $80 for "Future" members.\n\n\n\nShelbyOne investors receive one complimentary registration. If you utilize online registration the Chamber staff will adjust your cost accordingly.\n\n\n\nFor additional information on this event\, or ShelbyOne investment opportunities\, please contact Kirk Mancer at the Chamber via e-mail at kirk@shelbychamber.org or by phone at 663-4542.\n\n\n\nTo register use the Register Online button above\, call the Chamber at 663-4542 or click here to open a PDF form to complete and fax to the Chamber.
X-ALT-DESC;FMTTYPE=text/html:<strong>Greater Shelby Chamber&rsquo\;s 2014 Montgomery Drive-In</strong><br />\n<br />\nThe Chamber&rsquo\;s 2014 Montgomery Drive-In\, sponsored by AT&amp\;T - Alabama\, will be held March 19.<br />\n<br />\nThe Drive-In event is a product of the Chamber&rsquo\;s <em>ShelbyOne</em> initiative and will include: transportation to and from Montgomery\, a luncheon at the Capitol City Club\, presentations from various Alabama state departmental heads and agency directors and a legislative reception in conjunction with the Business Council of Alabama.<br />\n<br />\nThe cost for participants is $40 for Chamber members and $80 for &ldquo\;Future&rdquo\; members.<br />\n<br />\n<em>ShelbyOne investors receive one complimentary registration. If you utilize online registration the Chamber staff will adjust your cost accordingly.</em><br />\n<br />\nFor additional information on this event\, or ShelbyOne investment opportunities\, please contact Kirk Mancer at the Chamber via e-mail at <a href="mailto:kirk@shelbychamber.org?subject=Greater%20Shelby%20Chamber%202014%20Montgomery%20Drive%20In">kirk@shelbychamber.org</a> or by phone at 663-4542.<br />\n<br />\nTo register use the Register Online button above\, call the Chamber at 663-4542 or <a href="http://cloud.chambermaster.com/userfiles/UserFiles/chambers/145/File/Gov_t_Affairs/2014GSCCDRIVE-INFLIER.pdf">click here</a> to open a PDF form to complete and fax to the Chamber.
LOCATION:Those wanting to use the complimentary transportation will meet at the Greater Shelby Chamber office. 1301 County Services Drive Pelham\, AL 35124
UID:e.145.5069
SEQUENCE:3
DTSTAMP:20260423T201406Z
URL:https://business.shelbychamber.org/events/details/greater-shelby-chamber-montgomery-drive-in-03-19-2014-5069
END:VEVENT

END:VCALENDAR
