BEGIN:VCALENDAR
VERSION:2.0
PRODID:-//ChamberMaster//Event Calendar 2.0//EN
METHOD:PUBLISH
X-PUBLISHED-TTL:P3D
REFRESH-INTERVAL:P3D
CALSCALE:GREGORIAN
BEGIN:VEVENT
DTSTART:20110830T133000Z
DTEND:20110830T143000Z
X-MICROSOFT-CDO-ALLDAYEVENT:FALSE
SUMMARY:Greater Shelby Chamber ~ Network 280 at America's First Federal Credit Union
DESCRIPTION:Join us for a Network 280 meeting at America's First Federal Credit Union\, #2 Inverness Center Parkway.\n\n\n\nMeet our host:\n\n\n\nAmerica's First was founded in 1936 at U.S. Steel's Ensley Works in Birmingham\, Alabama to provide services to underserved individuals. America's First has grown to a full-service\, one-stop financial institution with over $1 billion dollars in assets and 18 branch locations. Always committed to providing cost effective financial services for its members\, America's First is one of the strongest credit unions in the nation.\n\n\n\nEvery member of America's First owns a share of the credit union and is required to maintain a $25 balance in a Share Account (savings). America's First is a full service credit union with accounts federally insured up to $250\,000 by the National Credit Union Administration (NCUA) and supplemental share insurance of up to $250\,000 provided by Excess Share Insurance (ESI).\n\n\n\nThe Greater Shelby County Chamber of Commerce coordinates Network 280 meetings to promote the interests of companies conducting business all along the Highway 280 corridor -- generating visibility and other initiatives that will help boost business. Click here to find out more about Network 280 meetings.
X-ALT-DESC;FMTTYPE=text/html:Join us for a <strong>Network 280</strong> meeting at <a href="https://www.amfirst.org/index.aspx">America&#39\;s First Federal Credit Union</a>\, #2 Inverness Center Parkway.<br />\n<br />\nMeet our host:<br />\n<br />\n<a href="https://www.amfirst.org/index.aspx">America&#39\;s First</a> was founded in 1936 at U.S. Steel&#39\;s Ensley Works in Birmingham\, Alabama to provide services to underserved individuals. America&#39\;s First has grown to a full-service\, one-stop financial institution with over $1 billion dollars in assets and 18 branch locations. Always committed to providing cost effective financial services for its members\, <a href="https://www.amfirst.org/index.aspx">America&#39\;s First</a> is one of the strongest credit unions in the nation.<br />\n<br />\nEvery member of America&#39\;s First owns a share of the credit union and is required to maintain a $25 balance in a Share Account (savings). America&#39\;s First is a full service credit union with accounts federally insured up to $250\,000 by the National Credit Union Administration (NCUA) and supplemental share insurance of up to $250\,000 provided by Excess Share Insurance (ESI).<br />\n<br />\nThe Greater Shelby County Chamber of Commerce coordinates <strong>Network 280</strong> meetings to promote the interests of companies conducting business all along the Highway 280 corridor -- generating visibility and other initiatives that will help boost business. <a href="http://www.shelbychamber.org/default.asp?ID=47">Click here to find out more about Network 280 meetings.</a><br />\n
LOCATION:America's First Federal Credit Union #2 Inverness Center Parkway Birmingham\, AL 35242 Phone: 205-995-0001
UID:e.145.3465
SEQUENCE:3
DTSTAMP:20260425T215505Z
URL:https://business.shelbychamber.org/events/details/greater-shelby-chamber-network-280-at-america-s-first-federal-credit-union-08-30-2011-3465
END:VEVENT

END:VCALENDAR
