BEGIN:VCALENDAR
VERSION:2.0
PRODID:-//ChamberMaster//Event Calendar 2.0//EN
METHOD:PUBLISH
X-PUBLISHED-TTL:P3D
REFRESH-INTERVAL:P3D
CALSCALE:GREGORIAN
BEGIN:VEVENT
DTSTART:20120918T133000Z
DTEND:20120918T143000Z
X-MICROSOFT-CDO-ALLDAYEVENT:FALSE
SUMMARY:Greater Shelby Chamber ~ Network 280 at BancorpSouth Bank
DESCRIPTION:Join us for a Network 280 meeting at BancorpSouth Bank.\n\n\n\nMeet our host: BancorpSouth Bank\n\n\n\nFor more than 135 years BancorpSouth has met the banking needs of the communities it serves through a series of community banks managed with an entrepreneurial spirit. Our banks team with their communities to grow by actively participating in public-private partnerships that build communities and provide a better way of life for all of their citizens. With nearly 300 locations in nine states\, we give you the regional banking convenience with the community banking service you deserve. BancorpSouth... Right Where You Are.\n\n\n\nThe Greater Shelby County Chamber of Commerce coordinates Network 280 meetings to promote the interests of companies conducting business all along the Highway 280 corridor -- generating visibility and other initiatives that will help boost business. Click here to find out more about Network 280 meetings.
X-ALT-DESC;FMTTYPE=text/html:Join us for a <strong>Network 280</strong> meeting at <a href="https://www.bancorpsouthonline.com/home/home">BancorpSouth Bank</a>.<br />\n<br />\nMeet our host: <a href="javascript:void(0)/*292*/"><span>BancorpSouth</span></a> Bank<br />\n<br />\nFor more than 135 years BancorpSouth has met the banking needs of the communities it serves through a series of community banks managed with an entrepreneurial spirit. Our banks team with their communities to grow by actively participating in public-private partnerships that build communities and provide a better way of life for all of their citizens. With nearly 300 locations in nine states\, we give you the regional banking convenience with the community banking service you deserve. BancorpSouth... Right Where You Are.<br />\n<br />\nThe Greater Shelby County Chamber of Commerce coordinates <strong>Network 280</strong> meetings to promote the interests of companies conducting business all along the Highway 280 corridor -- generating visibility and other initiatives that will help boost business. <a href="http://www.shelbychamber.org/default.asp?ID=47">Click here to find out more about Network 280 meetings.</a><br />\n
LOCATION:BancorpSouth Bank 4680 Highway 280 E Birmingham\, AL 35242 (205) 408-1954
UID:e.145.4363
SEQUENCE:3
DTSTAMP:20260425T011204Z
URL:https://business.shelbychamber.org/events/details/greater-shelby-chamber-network-280-at-bancorpsouth-bank-09-18-2012-4363
END:VEVENT

END:VCALENDAR
