BEGIN:VCALENDAR
VERSION:2.0
PRODID:-//ChamberMaster//Event Calendar 2.0//EN
METHOD:PUBLISH
X-PUBLISHED-TTL:P3D
REFRESH-INTERVAL:P3D
CALSCALE:GREGORIAN
BEGIN:VEVENT
DTSTART:20121025T133000Z
DTEND:20121025T143000Z
X-MICROSOFT-CDO-ALLDAYEVENT:FALSE
SUMMARY:Greater Shelby Chamber ~ Network 280 at Edwards Chevrolet
DESCRIPTION:Join us for a Network 280 meeting at Edwards Chevrolet-280.\n\n\n\nMeet our host: Edwards Chevrolet-280\n\n\n\nEdwards Chevrolet-280 in Birmingham\, AL\, also serving Tuscaloosa\, AL and Montgomery\, AL is proud to be an automotive leader in our area. Since opening our doors\, Edwards Chevrolet-280 has kept a firm commitment to our customers. We offer a wide selection of vehicles and hope to make the car buying process as quick and hassle free as possible.\n\n\n\nIf you would like financing options and you are in the market to purchase a new Chevrolet or used car or truck\, we will provide assistance to help you find financing options that fit your needs! Whether you have bad credit\, no credit\, or are a first time car buyer\, you can trust that Edwards Chevrolet-280 will get you into the car or truck you choose with professionalism and attention to your needs.\n\n\n\nEdwards Chevrolet-280 has an experienced and reliable Service and Parts departments that are open extra hours to help fit our customers' hectic schedules\, and as always\, Edwards Chevrolet-280 offers competitive pricing for your automotive maintenance needs. Customer satisfaction is our highest priority\, and our staff is committed to achieving this goal in every aspect of our business. Please feel free to reach us at (205) 980-3325 if you have any questions or comments.\n\n\n\nEdwards Chevrolet-280 offers a full selection of service areas including:\n\n\n\n    New Vehicle Sales\n\n    Pre-Owned Vehicle Sales\n\n    Car Loans and Financing\n\n    Certified Service Department\n\n    Full Selection of Chevrolet Parts and Accessories\n\n\n\nThe Greater Shelby County Chamber of Commerce coordinates Network 280 meetings to promote the interests of companies conducting business all along the Highway 280 corridor -- generating visibility and other initiatives that will help boost business. Click here to find out more about Network 280 meetings.
X-ALT-DESC;FMTTYPE=text/html:Join us for a <strong>Network 280</strong> meeting at <a href="http://280.chevyman.com/">Edwards Chevrolet-280</a>.<br />\n<br />\nMeet our host: <a href="http://280.chevyman.com/">Edwards Chevrolet-280</a><br />\n<br />\nEdwards Chevrolet-280 in Birmingham\, AL\, also serving Tuscaloosa\, AL and Montgomery\, AL is proud to be an automotive leader in our area. Since opening our doors\, Edwards Chevrolet-280 has kept a firm commitment to our customers. We offer a wide selection of vehicles and hope to make the car buying process as quick and hassle free as possible.<br />\n<br />\nIf you would like financing options and you are in the market to purchase a new Chevrolet or used car or truck\, we will provide assistance to help you find financing options that fit your needs! Whether you have bad credit\, no credit\, or are a first time car buyer\, you can trust that Edwards Chevrolet-280 will get you into the car or truck you choose with professionalism and attention to your needs.<br />\n<br />\nEdwards Chevrolet-280 has an experienced and reliable Service and Parts departments that are open extra hours to help fit our customers&#39\; hectic schedules\, and as always\, Edwards Chevrolet-280 offers competitive pricing for your automotive maintenance needs. Customer satisfaction is our highest priority\, and our staff is committed to achieving this goal in every aspect of our business. Please feel free to reach us at (205) 980-3325 if you have any questions or comments.<br />\n<br />\nEdwards Chevrolet-280 offers a full selection of service areas including:<br />\n<br />\n&nbsp\;&nbsp\;&nbsp\; New Vehicle Sales<br />\n&nbsp\;&nbsp\;&nbsp\; Pre-Owned Vehicle Sales<br />\n&nbsp\;&nbsp\;&nbsp\; Car Loans and Financing<br />\n&nbsp\;&nbsp\;&nbsp\; Certified Service Department<br />\n&nbsp\;&nbsp\;&nbsp\; Full Selection of Chevrolet Parts and Accessories<br />\n<br />\nThe Greater Shelby County Chamber of Commerce coordinates <strong>Network 280</strong> meetings to promote the interests of companies conducting business all along the Highway 280 corridor -- generating visibility and other initiatives that will help boost business. <a href="http://www.shelbychamber.org/default.asp?ID=47">Click here to find out more about Network 280 meetings.</a><br />\n
LOCATION:Edwards Chevrolet-280 5499 Highway 280 East Birmingham\, AL 35242 Sales: (205) 980-DEAL (3325)
UID:e.145.4402
SEQUENCE:3
DTSTAMP:20260424T233447Z
URL:https://business.shelbychamber.org/events/details/greater-shelby-chamber-network-280-at-edwards-chevrolet-10-25-2012-4402
END:VEVENT

END:VCALENDAR
