BEGIN:VCALENDAR
VERSION:2.0
PRODID:-//ChamberMaster//Event Calendar 2.0//EN
METHOD:PUBLISH
X-PUBLISHED-TTL:P3D
REFRESH-INTERVAL:P3D
CALSCALE:GREGORIAN
BEGIN:VEVENT
DTSTART:20110713T133000Z
DTEND:20110713T143000Z
X-MICROSOFT-CDO-ALLDAYEVENT:FALSE
SUMMARY:Greater Shelby Chamber ~ Network 280 at McAlister's Deli Greystone
DESCRIPTION:Join us for a Network 280 meeting at McAlister's Deli\, Greystone.\n\n\n\nMeet our host:\n\n\n\nPeople today crave fresh tastes\, quick service and a welcoming friendly atmosphere where they can relax over a leisurely lunch or eat and run. That's what McAlister's Deli  delivers\, with a special touch that's uniquely our own. You'll see it in our menu\, in our service and in our faces. You'll also see it in our food\, with premium ingredients like Black Angus roast beef\, Black Forest ham\, caramelized onions\, brie cheese\, roasted corn & poblano pepper relish and artisan breads like baguette\, ciabatta and focaccia.\n\n\n\nAs soon as you enter\, you'll be greeted by our unique menu filled with a wide variety of sandwiches\, giant spuds\, entr e salads\, soups\, sweets and of course our signature Famous Sweet Tea . The only thing missing is food that's fried or greasy - everything at McAlister's is hand made fresh just for you right when you order it. Get your Famous Sweet Tea  at the counter and starts sipping on that while you relax in our dining area. And there's no need to get up when your order is ready\, our servers will bring the food to your table\, as well as any other little extras you may need. It's all part of the McAlister's touch.\n\n\n\nThe Greater Shelby County Chamber of Commerce is coordinating Network 280 meetings to promote the interests of companies conducting business all along the Highway 280 corridor -- generating visibility and other initiatives that will help boost business. Click here to find out more about Network 280 meetings.
X-ALT-DESC;FMTTYPE=text/html:Join us for a <strong>Network 280</strong> meeting at <a href="http://www.mcalistersdeli.com/">McAlister&#39\;s Deli</a>\, Greystone.<br />\n<br />\nMeet our host:<br />\n<br />\nPeople today crave fresh tastes\, quick service and a welcoming friendly atmosphere where they can relax over a leisurely lunch or eat and run. That&#39\;s what <a href="http://www.mcalistersdeli.com/">McAlister&#39\;s Deli</a>&reg\; delivers\, with a special touch that&#39\;s uniquely our own. You&#39\;ll see it in our menu\, in our service and in our faces. You&#39\;ll also see it in our food\, with premium ingredients like Black Angus roast beef\, Black Forest ham\, caramelized onions\, brie cheese\, roasted corn &amp\; poblano pepper relish and artisan breads like baguette\, ciabatta and focaccia.<br />\n<br />\nAs soon as you enter\, you&#39\;ll be greeted by our unique menu filled with a wide variety of sandwiches\, giant spuds\, entr&eacute\;e salads\, soups\, sweets and of course our signature Famous Sweet Tea&trade\;. The only thing missing is food that&#39\;s fried or greasy - everything at McAlister&#39\;s is hand made fresh just for you right when you order it. Get your Famous Sweet Tea&trade\; at the counter and starts sipping on that while you relax in our dining area. And there&#39\;s no need to get up when your order is ready\, our servers will bring the food to your table\, as well as any other little extras you may need. It&#39\;s all part of the McAlister&#39\;s touch.<br />\n<br />\nThe Greater Shelby County Chamber of Commerce is coordinating <strong>Network 280</strong> meetings to promote the interests of companies conducting business all along the Highway 280 corridor -- generating visibility and other initiatives that will help boost business. <a href="http://www.shelbychamber.org/default.asp?ID=47">Click here to find out more about Network 280 meetings.</a><br />\n
LOCATION:McAlister's Deli Greystone 5406 Highway 280\, Suite E-101 Birmingham AL 35242 (205) 408-7799
UID:e.145.3443
SEQUENCE:3
DTSTAMP:20260426T005821Z
URL:https://business.shelbychamber.org/events/details/greater-shelby-chamber-network-280-at-mcalister-s-deli-greystone-07-13-2011-3443
END:VEVENT

END:VCALENDAR
