BEGIN:VCALENDAR
VERSION:2.0
PRODID:-//ChamberMaster//Event Calendar 2.0//EN
METHOD:PUBLISH
X-PUBLISHED-TTL:P3D
REFRESH-INTERVAL:P3D
CALSCALE:GREGORIAN
BEGIN:VEVENT
DTSTART:20120424T133000Z
DTEND:20120424T143000Z
X-MICROSOFT-CDO-ALLDAYEVENT:FALSE
SUMMARY:Greater Shelby Chamber ~ Network 280 at Mitchell's Paper Etc.
DESCRIPTION:Join us for a Network 280 meeting and a ribbon cutting ceremony at Mitchell's Paper Etc.\n\n\n\nMeet our host:  Mitchell's Paper Etc. Fine Stationery\n\n\n\nAs our very own house brand Mitchell's Fine Stationery is committed to making elegant\, simple stationery and invitations that blend classic styles with contemporary elements. Created to offer an affordable option to other brand names without sparing quality\, the Alexis Kit includes invitations\, envelopes\, response and reception cards\, as well as response envelopes at 10-20% less than competitors. Our products are made from 100% biodegradable\, tree-free 92lb cotton paper that creates invitations with a pleasantly unique look and feel while remaining environmentally conscious.\n\n\n\nCategories:\n\n\n\n    Mitchell's Fine Stationery\n\n\n\n    SHOP STATIONERY\n\n\n\n    SHOP WEDDING\n\n\n\nThe Greater Shelby County Chamber of Commerce coordinates Network 280 meetings to promote the interests of companies conducting business all along the Highway 280 corridor -- generating visibility and other initiatives that will help boost business. Click here to find out more about Network 280 meetings.
X-ALT-DESC;FMTTYPE=text/html:Join us for a <strong>Network 280</strong> meeting and a ribbon cutting ceremony at <strong><a href="http://www.mitchellspaperetc.com/">Mitchell&#39\;s Paper Etc</a></strong>.<br />\n<br />\nMeet our host:&nbsp\; <strong><a href="http://www.mitchellspaperetc.com/">Mitchell&#39\;s Paper Etc. Fine Stationery</a></strong><br />\n<br />\nAs our very own house brand <a href="http://www.mitchellspaperetc.com/">Mitchell&#39\;s Fine Stationery</a> is committed to making elegant\, simple stationery and invitations that blend classic styles with contemporary elements. Created to offer an affordable option to other brand names without sparing quality\, the Alexis Kit includes invitations\, envelopes\, response and reception cards\, as well as response envelopes at 10-20% less than competitors. Our products are made from 100% biodegradable\, tree-free 92lb cotton paper that creates invitations with a pleasantly unique look and feel while remaining environmentally conscious.<br />\n<br />\n<u><strong>Categories</strong></u>:<br />\n<br />\n&nbsp\;&nbsp\;&nbsp\; Mitchell&#39\;s Fine Stationery<br />\n<br />\n&nbsp\;&nbsp\;&nbsp\; SHOP STATIONERY<br />\n<br />\n&nbsp\;&nbsp\;&nbsp\; SHOP WEDDING<br />\n<br />\nThe Greater Shelby County Chamber of Commerce coordinates <strong>Network 280</strong> meetings to promote the interests of companies conducting business all along the Highway 280 corridor -- generating visibility and other initiatives that will help boost business. <a href="http://www.shelbychamber.org/default.asp?ID=47">Click here to find out more about Network 280 meetings.</a><br />\n
LOCATION:Mitchell's Paper Etc. 300 Doug Baker Blvd\, Ste 100 Birmingham AL 35242 (205) 408-0216
UID:e.145.3981
SEQUENCE:3
DTSTAMP:20260425T102122Z
URL:https://business.shelbychamber.org/events/details/greater-shelby-chamber-network-280-at-mitchell-s-paper-etc-04-24-2012-3981
END:VEVENT

END:VCALENDAR
