BEGIN:VCALENDAR
VERSION:2.0
PRODID:-//ChamberMaster//Event Calendar 2.0//EN
METHOD:PUBLISH
X-PUBLISHED-TTL:P3D
REFRESH-INTERVAL:P3D
CALSCALE:GREGORIAN
BEGIN:VEVENT
DTSTART:20110531T133000Z
DTEND:20110531T143000Z
X-MICROSOFT-CDO-ALLDAYEVENT:FALSE
SUMMARY:Greater Shelby Chamber ~ Network 280 at Momma Goldberg's Deli
DESCRIPTION:Join us for a Network 280 meeting at Momma Goldberg's Deli\, Inverness.\n\n\n\nMeet our host:\n\n\n\nWelcome to Momma Goldberg's Deli. We have two great locations to serve you here in Birmingham\, 4647 Hwy. 280 Suite U (Inverness) and 2829 18th street south (Homewood). Momma Goldberg's Deli has been serving great deli food since 1976. Come on in and get your "Momma's Love".\n\n\n\nThe Greater Shelby County Chamber of Commerce is coordinating Network 280 meetings to promote the interests of companies conducting business all along the Highway 280 corridor -- generating visibility and other initiatives that will help boost business. Click here to find out more about Network 280 meetings.
X-ALT-DESC;FMTTYPE=text/html:Join us for a <strong>Network 280</strong> meeting at <a href="http://www.mommagoldbergsdeli.com/inverness/">Momma Goldberg&#39\;s Deli</a>\, Inverness.<br />\n<br />\nMeet our host:<br />\n<br />\nWelcome to <a href="http://www.mommagoldbergsdeli.com/inverness/">Momma Goldberg&#39\;s Deli</a>. We have two great locations to serve you here in Birmingham\, 4647 Hwy. 280 Suite U (Inverness) and 2829 18th street south (Homewood). <a href="http://www.mommagoldbergsdeli.com/inverness/">Momma Goldberg&#39\;s Deli</a> has been serving great deli food since 1976. Come on in and get your &quot\;Momma&#39\;s Love&quot\;.<br />\n<br />\nThe Greater Shelby County Chamber of Commerce is coordinating <strong>Network 280</strong> meetings to promote the interests of companies conducting business all along the Highway 280 corridor -- generating visibility and other initiatives that will help boost business. <a href="http://www.shelbychamber.org/default.asp?ID=47">Click here to find out more about Network 280 meetings.</a><br />\n
LOCATION:Momma Goldberg's Deli 4647 Highway 280\, Ste U Birmingham AL 35242 (205) 980-1999
UID:e.145.3388
SEQUENCE:3
DTSTAMP:20260426T022634Z
URL:https://business.shelbychamber.org/events/details/greater-shelby-chamber-network-280-at-momma-goldberg-s-deli-05-31-2011-3388
END:VEVENT

END:VCALENDAR
